BEGIN:VCALENDAR
VERSION:2.0
PRODID:-//ChamberMaster//Event Calendar 2.0//EN
METHOD:PUBLISH
X-PUBLISHED-TTL:P3D
REFRESH-INTERVAL:P3D
CALSCALE:GREGORIAN
BEGIN:VEVENT
DTSTART:20170120T213000Z
DTEND:20170121T010000Z
X-MICROSOFT-CDO-ALLDAYEVENT:FALSE
SUMMARY:Sauk Prairie High School and Middle School\, WRAP Art Opening
DESCRIPTION:Experience student artwork alongside professional pieces from artists throughout Wisconsin. Wisconsin Regional Art Program (WRAP) was established in 1940 to encourage Wisconsin citizens with a serious interest in art. People who make are purely for the fun of it\, rather than for fame or fortune. This year\, we celebreate over 75 years of Wisconsin art!\n\n3:30-5:00pm Middle School/ High School opening\n\n5:00-7:00pm WRAP opening
X-ALT-DESC;FMTTYPE=text/html:Experience student artwork alongside professional pieces from artists throughout Wisconsin. Wisconsin Regional Art Program (WRAP) was established in 1940 to encourage Wisconsin citizens with a serious interest in art. People who make are purely for the fun of it\, rather than for fame or fortune. This year\, we celebreate over 75 years of Wisconsin art!<br />\n3:30-5:00pm Middle School/ High School opening<br />\n5:00-7:00pm WRAP opening
LOCATION:River Arts Center 105 9th St\, Prairie du Sac\, WI
UID:e.1184.8859
SEQUENCE:3
DTSTAMP:20260425T124722Z
URL:http://members.saukprairie.com/events/details/sauk-prairie-high-school-and-middle-school-wrap-art-opening-01-20-2017-8859
END:VEVENT

END:VCALENDAR
