BEGIN:VCALENDAR
VERSION:2.0
PRODID:-//ChamberMaster//Event Calendar 2.0//EN
METHOD:PUBLISH
X-PUBLISHED-TTL:P3D
REFRESH-INTERVAL:P3D
CALSCALE:GREGORIAN
BEGIN:VEVENT
DTSTART:20231209T200000Z
DTEND:20231210T031500Z
X-MICROSOFT-CDO-ALLDAYEVENT:FALSE
SUMMARY:Sauk Prairie High School Madrigal Faire!
DESCRIPTION:SPHS Madrigal Faire! \n\nJoin us Saturday\, December 9\, 2023 for a medieval celebration of the winter season! Shows at 2pm and 7pm. Huzzah!\n\nShow 1:\n\n2pm-3pm - Hors-d'oeuvres in the Hall of Leola\n\n3pm-4:15pm - Queens Theater Performance\n\n\n\nShow 2:\n\n7pm-8pm - Hors-d'oeuvres in the Hall of Leola\n\n8pm-9:15pm - Queens Theater Performance
X-ALT-DESC;FMTTYPE=text/html:SPHS Madrigal Faire!&nbsp\;<br />\nJoin us Saturday\, December 9\, 2023 for a medieval celebration of the winter season! Shows at 2pm and 7pm. Huzzah!<br />\nShow 1:<br />\n2pm-3pm - Hors-d&#39\;oeuvres in the Hall of Leola<br />\n3pm-4:15pm - Queens Theater Performance<br />\n<br />\nShow 2:<br />\n7pm-8pm - Hors-d&#39\;oeuvres in the Hall of Leola<br />\n8pm-9:15pm - Queens Theater Performance<br />\n<br />\n&nbsp\;
LOCATION:Sauk Prairie River Arts Center 105 - 9th Street Prairie du Sac WI 53578
UID:e.1184.31362
SEQUENCE:3
DTSTAMP:20260420T033700Z
URL:http://members.saukprairie.com/events/details/sauk-prairie-high-school-madrigal-faire-31362
END:VEVENT

END:VCALENDAR
