BEGIN:VCALENDAR
VERSION:2.0
PRODID:-//ChamberMaster//Event Calendar 2.0//EN
METHOD:PUBLISH
X-PUBLISHED-TTL:P3D
REFRESH-INTERVAL:P3D
CALSCALE:GREGORIAN
BEGIN:VEVENT
DTSTART:20181118T200000Z
DTEND:20181118T220000Z
X-MICROSOFT-CDO-ALLDAYEVENT:FALSE
SUMMARY:Sauk Prairie Holiday Food Drive
DESCRIPTION:Bring items to the Sauk Prairie Chamber of Commerce\, to enter into multiple drawings of gift cards from local businesses. Monetary donations will be accepted as well. Donations made will benefit the Sauk Prairie Food Pantry.\n\n\n\nItems most in need: Shampoo\, Conditioner\, Body Wash/Soap\, Toothpaste.\n\nAll non-perishable food items accepted also.\n\n\n\nSponsored by Sauk Prairie Realtors
X-ALT-DESC;FMTTYPE=text/html:Bring items to the Sauk Prairie Chamber of Commerce\, to enter into multiple drawings of gift cards from local businesses. Monetary donations will be accepted as well. Donations made will benefit the Sauk Prairie Food Pantry.<br />\n<br />\nItems most in need: Shampoo\, Conditioner\, Body Wash/Soap\, Toothpaste.<br />\nAll non-perishable food items accepted also.<br />\n<br />\nSponsored by Sauk Prairie Realtors
LOCATION:109 Phillips Blvd. Sauk City\, WI 53583
UID:e.1184.21434
SEQUENCE:3
DTSTAMP:20260424T022539Z
URL:http://members.saukprairie.com/events/details/sauk-prairie-holiday-food-drive-21434
END:VEVENT

END:VCALENDAR
