BEGIN:VCALENDAR
VERSION:2.0
PRODID:-//ChamberMaster//Event Calendar 2.0//EN
METHOD:PUBLISH
X-PUBLISHED-TTL:P3D
REFRESH-INTERVAL:P3D
CALSCALE:GREGORIAN
BEGIN:VEVENT
DTSTART:20240508T210000Z
DTEND:20240509T010000Z
X-MICROSOFT-CDO-ALLDAYEVENT:FALSE
SUMMARY:Sauk Prairie Kids Companion Share Night
DESCRIPTION:Visit Culver's of Sauk City on May 8th from 4pm-8pm to help raise money for the Sauk Prairie Kids Companion.\n\nYou may place orders online\, to-go\, call ins\, drive thru\, and dining will be available.\n\nA total percentage of sales will be donated to the Sauk County Humane Society.
X-ALT-DESC;FMTTYPE=text/html:Visit Culver&#39\;s of Sauk City on May 8th from 4pm-8pm to help raise money for the Sauk Prairie Kids Companion.<br font-size:="" segoe="" ui="" />\nYou may place orders online\, to-go\, call ins\, drive thru\, and dining will be available.<br font-size:="" segoe="" ui="" />\nA total percentage of sales will be donated to the Sauk County Humane Society.&nbsp\;
LOCATION:Culver's of Sauk City
UID:e.1184.32401
SEQUENCE:3
DTSTAMP:20260419T205213Z
URL:http://members.saukprairie.com/events/details/sauk-prairie-kids-companion-share-night-32401
END:VEVENT

END:VCALENDAR
