BEGIN:VCALENDAR
VERSION:2.0
PRODID:-//ChamberMaster//Event Calendar 2.0//EN
METHOD:PUBLISH
X-PUBLISHED-TTL:P3D
REFRESH-INTERVAL:P3D
CALSCALE:GREGORIAN
BEGIN:VEVENT
DTSTART:20200822T150000Z
DTEND:20200823T190000Z
X-MICROSOFT-CDO-ALLDAYEVENT:FALSE
SUMMARY:Sauk Prairie Lions Brat Stand
DESCRIPTION:Brat Stand at Ace Hardware\n\nDrive-By or Pick Up
X-ALT-DESC;FMTTYPE=text/html:Brat Stand at Ace Hardware<br />\nDrive-By or Pick Up
LOCATION:Ace Hardware
UID:e.1184.26090
SEQUENCE:3
DTSTAMP:20260422T182639Z
URL:http://members.saukprairie.com/events/details/sauk-prairie-lions-brat-stand-26090
END:VEVENT

END:VCALENDAR
