BEGIN:VCALENDAR
VERSION:2.0
PRODID:-//ChamberMaster//Event Calendar 2.0//EN
METHOD:PUBLISH
X-PUBLISHED-TTL:P3D
REFRESH-INTERVAL:P3D
CALSCALE:GREGORIAN
BEGIN:VEVENT
DTSTART;VALUE=DATE:20220512
DTEND;VALUE=DATE:20220514
TRANSP:TRANSPARENT
X-MICROSOFT-CDO-ALLDAYEVENT:TRUE
SUMMARY:Sauk Prairie Lions Foundation Brat Stand
DESCRIPTION:Please join the Sauk Prairie Lions Foundation for their Brat Stand.\n\n\n\nBrat: $3\n\nHot Dog: $2\n\nChips: $1\n\n\n\nFree delivery for orders over $25\n\nFree party size chips for orders over $40\n\n\n\nClick here to download the form
X-ALT-DESC;FMTTYPE=text/html:Please join the Sauk Prairie Lions Foundation for their Brat Stand.<br />\n<br />\nBrat: $3<br />\nHot Dog: $2<br />\nChips: $1<br />\n<br />\nFree delivery for orders over $25<br />\nFree party size chips for orders over $40<br />\n<br />\n<a href="https://chambermaster.blob.core.windows.net/userfiles/UserFiles/chambers/1184/File/BratStandorderform.pdf">Click here to download the form</a>
LOCATION:Piggly Wiggly Parking Lot
UID:e.1184.27621
SEQUENCE:3
DTSTAMP:20260421T133546Z
URL:http://members.saukprairie.com/events/details/sauk-prairie-lions-foundation-brat-stand-27621
END:VEVENT

END:VCALENDAR
