BEGIN:VCALENDAR
VERSION:2.0
PRODID:-//ChamberMaster//Event Calendar 2.0//EN
METHOD:PUBLISH
X-PUBLISHED-TTL:P3D
REFRESH-INTERVAL:P3D
CALSCALE:GREGORIAN
BEGIN:VEVENT
DTSTART;VALUE=DATE:20210711
DTEND;VALUE=DATE:20210712
TRANSP:TRANSPARENT
X-MICROSOFT-CDO-ALLDAYEVENT:TRUE
SUMMARY:Sauk Prairie Lions Golf Tournament
DESCRIPTION:Sauk Prairie Lions\n	16th Annual Golf Tournament\n	Julie 11th: 12:30 shotgun start\n	Lake Wisconsin Country Club\n	Sign up by calling: 608-643-2405 or click here
X-ALT-DESC;FMTTYPE=text/html:<ul>\n	<li>Sauk Prairie Lions</li>\n	<li>16th Annual Golf Tournament</li>\n	<li>Julie 11th: 12:30 shotgun start</li>\n	<li>Lake Wisconsin Country Club</li>\n	<li>Sign up by calling: 608-643-2405 or <a href="https://chambermaster.blob.core.windows.net/userfiles/UserFiles/chambers/1184/File/brochure2021final.pdf">click here</a></li>\n</ul>\n
LOCATION:Lake Wisconsin Country Club
UID:e.1184.26658
SEQUENCE:3
DTSTAMP:20260422T021359Z
URL:http://members.saukprairie.com/events/details/sauk-prairie-lions-golf-tournament-26658
END:VEVENT

END:VCALENDAR
