BEGIN:VCALENDAR
VERSION:2.0
PRODID:-//ChamberMaster//Event Calendar 2.0//EN
METHOD:PUBLISH
X-PUBLISHED-TTL:P3D
REFRESH-INTERVAL:P3D
CALSCALE:GREGORIAN
BEGIN:VEVENT
DTSTART:20180217T123000Z
DTEND:20180217T203000Z
X-MICROSOFT-CDO-ALLDAYEVENT:FALSE
SUMMARY:Sauk Prairie Live Bait & Tackle Carl Welke Memorial Fish/Mud Lake Fisheree
DESCRIPTION:Sauk Prairie Live Bait & Tackle Carl Welke Memorial\n\nFish/Mud Lake Fisheree\n\n6:30am - 2:30pm\n\n\n\nPrize drawings and 3pm\n\n \n\n150 Fishing tickets available - $10 each\n\nDoor prize tickets unlimited - $10 each or 3 for $25\n\n \n\n$1000s in Prizes \n\n  \n\nChamber members can supply their own donations or purchase items at the store to be donated (for cost).\n\n \n\nAll profits are donated to charity.\n\n \n\nWorld Craniofaicial Foundation\n\nMichael J Fox Parkinsons Foundation\n\nBoy Scout Troop 173
X-ALT-DESC;FMTTYPE=text/html:Sauk Prairie Live Bait &amp\; Tackle Carl Welke Memorial<br />\nFish/Mud Lake Fisheree<br />\n6:30am - 2:30pm<br />\n<br />\n<span style="font-size:9.5pt\;">Prize drawings and 3pm</span><br />\n&nbsp\;<br />\n<span style="font-size:9.5pt\;">150 Fishing tickets available - $10 each</span><br />\n<span style="font-size:9.5pt\;">Door prize tickets unlimited - $10 each or 3 for $25</span><br />\n&nbsp\;<br />\n<span style="font-size:9.5pt\;">$1000s in Prizes&nbsp\;</span><br />\n&nbsp\;&nbsp\;<br />\n<span style="font-size:9.5pt\;">Chamber&nbsp\;members can supply their own donations or purchase items at the store&nbsp\;to be donated (for cost).</span><br />\n&nbsp\;<br />\n<span style="font-size:9.5pt\;">All profits are donated to charity.</span><br />\n&nbsp\;<br />\n<span style="font-size:9.5pt\;">World Craniofaicial Foundation</span><br />\n<span style="font-size:9.5pt\;">Michael J Fox Parkinsons Foundation</span><br />\n<span style="font-size:9.5pt\;">Boy Scout Troop 173</span>
LOCATION:Fish Lake
UID:e.1184.14616
SEQUENCE:3
DTSTAMP:20260424T162217Z
URL:http://members.saukprairie.com/events/details/sauk-prairie-live-bait-tackle-carl-welke-memorial-fish-mud-lake-fisheree-14616
END:VEVENT

END:VCALENDAR
