BEGIN:VCALENDAR
VERSION:2.0
PRODID:-//ChamberMaster//Event Calendar 2.0//EN
METHOD:PUBLISH
X-PUBLISHED-TTL:P3D
REFRESH-INTERVAL:P3D
CALSCALE:GREGORIAN
BEGIN:VEVENT
DTSTART:20241013T190000Z
DTEND:20241013T220000Z
X-MICROSOFT-CDO-ALLDAYEVENT:FALSE
SUMMARY:Sauk Prairie Marching Band Invite
DESCRIPTION:Please join us for the Sauk Prairie Marching Band Invite on Sunday\, October 13\, 2024 and enjoy watching marching bands from across Wisconsin as they perform their 2024 season shows in competition. Sauk Prairie High School Marching Band will perform their 2024 production\, Paint It Black\, in exhibition. The Sauk Prairie Marching Band Invite will take place at Sauk Prairie High School\, 105 9th Street\, Prairie du Sac WI 53578. Gates open at 1:30pm. Tickets may be purchased the day of the competition: Adults - $10\, Children - $8\, and Children Under 5 - Free. Concessions will be available.\n\n\n\nPerformance Schedule\n\n2:00 - National Anthem\n\n2:05 - Platteville (A)\n\n2:20 - Columbus (A)\n\n2:35 - Portage (A)\n\n2:50 - Stoughton (AA)\n\n3:05 - Break\n\n3:15 - Milton (AAA)\n\n3:30 - Middleton (AAAA)\n\n3:45 - Sauk Prairie (Exhibition)\n\n4:00 - UW-Oshkosh Titan Thunder (Exhibition)\n\n4:15 - Awards
X-ALT-DESC;FMTTYPE=text/html:Please join us for the Sauk Prairie Marching Band Invite on Sunday\, October 13\, 2024 and enjoy watching marching bands from across Wisconsin as they perform their 2024 season shows in competition. Sauk Prairie High School Marching Band will perform their 2024 production\, Paint It Black\, in exhibition. The Sauk Prairie Marching Band Invite will take place at Sauk Prairie High School\, 105 9th Street\, Prairie du Sac WI 53578. Gates open at 1:30pm. Tickets may be purchased the day of the competition: Adults - $10\, Children - $8\, and Children Under 5 - Free. Concessions will be available.<br />\n<br />\nPerformance Schedule<br />\n2:00 - National Anthem<br />\n2:05 - Platteville (A)<br />\n2:20 - Columbus (A)<br />\n2:35 - Portage (A)<br />\n2:50 - Stoughton (AA)<br />\n3:05 - Break<br />\n3:15 - Milton (AAA)<br />\n3:30 - Middleton (AAAA)<br />\n3:45 - <strong>Sauk Prairie (Exhibition)</strong><br />\n4:00 - UW-Oshkosh Titan Thunder (Exhibition)<br />\n4:15 - Awards
LOCATION:Sauk Prairie High School 105 9th Street Prairie du Sac WI 53578
UID:e.1184.33462
SEQUENCE:3
DTSTAMP:20260419T144029Z
URL:http://members.saukprairie.com/events/details/sauk-prairie-marching-band-invite-10-13-2024-33462
END:VEVENT

END:VCALENDAR
