BEGIN:VCALENDAR
VERSION:2.0
PRODID:-//ChamberMaster//Event Calendar 2.0//EN
METHOD:PUBLISH
X-PUBLISHED-TTL:P3D
REFRESH-INTERVAL:P3D
CALSCALE:GREGORIAN
BEGIN:VEVENT
DTSTART:20231008T190000Z
DTEND:20231008T213000Z
X-MICROSOFT-CDO-ALLDAYEVENT:FALSE
SUMMARY:Sauk Prairie Marching Band Invite
DESCRIPTION:Please join us for the Sauk Prairie Marching Band Invite on Sunday\, October 8\, 2023 and enjoy watching marching bands from across Wisconsin as they perform their 2023 season shows in competition. Sauk Prairie High School Marching Band will perform their 2023 production\, Valhalla\, in exhibition. The Sauk Prairie Marching Band Invite will take place at Sauk Prairie High School\, 105 5th Street\, Prairie du Sac WI 53578. Gates open at 1:30pm. Tickets may be purchased the day of the competition: Adults - $10\, Children - $8\, and Children Under 5 - Free. Concessions will be available.\n\n\n\nPerformance Schedule\n\n\n2:00 - National Anthem\n\n2:05 - Gale Ettrick Trempealeau (A Non Competitive)\n\n2:20 - Platteville (A)\n\n2:35 - Stoughton (AA Non Competitive)\n\n2:50 - Portage (AA)\n\n3:00 - Break\n\n3:15 - Milton (AAA)\n\n3:30 - Middleton (AAAA)\n\n3:45 - Sauk Prairie (Exhibition)\n\n4:00 - Awards
X-ALT-DESC;FMTTYPE=text/html:<div>\n<div>Please join us for the Sauk Prairie Marching Band Invite on Sunday\, October 8\, 2023 and enjoy watching marching bands from across Wisconsin as they perform their 2023 season shows in competition. Sauk Prairie High School Marching Band will perform their 2023 production\, Valhalla\, in exhibition. The Sauk Prairie Marching Band Invite will take place at Sauk Prairie High School\, 105 5th Street\, Prairie du Sac WI 53578. Gates open at 1:30pm. Tickets may be purchased the day of the competition: Adults - $10\, Children - $8\, and Children Under 5 - Free. Concessions will be available.<br />\n<br />\nPerformance Schedule</div>\n\n<div>\n<p>2:00 - National Anthem</p>\n\n<p>2:05 - Gale Ettrick Trempealeau (A Non Competitive)</p>\n\n<p>2:20 - Platteville (A)</p>\n\n<p>2:35 - Stoughton (AA Non Competitive)</p>\n\n<p>2:50 - Portage (AA)</p>\n\n<p>3:00 - Break</p>\n\n<p>3:15 - Milton (AAA)</p>\n\n<p>3:30 - Middleton (AAAA)</p>\n\n<p>3:45 - Sauk Prairie (Exhibition)</p>\n\n<p>4:00 - Awards</p>\n</div>\n</div>\n\n<div>&nbsp\;</div>\n\n<div>&nbsp\;</div>\n
LOCATION:Sauk Prairie High School 105 Ninth Street Prairie du Sac WI 53578
UID:e.1184.31033
SEQUENCE:3
DTSTAMP:20260420T073502Z
URL:http://members.saukprairie.com/events/details/sauk-prairie-marching-band-invite-31033
END:VEVENT

END:VCALENDAR
