BEGIN:VCALENDAR
VERSION:2.0
PRODID:-//ChamberMaster//Event Calendar 2.0//EN
METHOD:PUBLISH
X-PUBLISHED-TTL:P3D
REFRESH-INTERVAL:P3D
CALSCALE:GREGORIAN
BEGIN:VEVENT
DTSTART:20231021T000000Z
DTEND:20231022T190000Z
X-MICROSOFT-CDO-ALLDAYEVENT:FALSE
SUMMARY:Sauk Prairie Middle School Musical Annie JR
DESCRIPTION:Sauk Prairie Middle School Presents Annie JR This spirited production is based on the popular comic strip and adapted from the Tony Award-winning Best Musical. Annie JR features everyone's favorite little redhead in her very first adventure.
X-ALT-DESC;FMTTYPE=text/html:<span style="color:rgb(5\, 5\, 5)\; font-family:segoe ui historic\,segoe ui\,helvetica\,arial\,sans-serif\; font-size:15px">Sauk Prairie Middle School Presents Annie JR This spirited production is based on the popular comic strip and adapted from the Tony Award-winning Best Musical. Annie JR features everyone&rsquo\;s favorite little redhead in her very first adventure.&nbsp\;</span>
LOCATION:River Arts Center Gallery 105 - 9th Street Prairie du Sac WI 53578
UID:e.1184.31182
SEQUENCE:3
DTSTAMP:20260420T062044Z
URL:http://members.saukprairie.com/events/details/sauk-prairie-middle-school-annie-jr-31182
END:VEVENT

END:VCALENDAR
