BEGIN:VCALENDAR
VERSION:2.0
PRODID:-//ChamberMaster//Event Calendar 2.0//EN
METHOD:PUBLISH
X-PUBLISHED-TTL:P3D
REFRESH-INTERVAL:P3D
CALSCALE:GREGORIAN
BEGIN:VEVENT
DTSTART:20240316T140000Z
DTEND:20240316T200000Z
X-MICROSOFT-CDO-ALLDAYEVENT:FALSE
SUMMARY:Sauk Prairie Middle School Spring Craft & Vendor Fair
DESCRIPTION:The 2nd Annual Sauk Prairie Middle School Spring Craft & Vendor Fair will have over 70 crafters and vendors showcasing their items. Both gyms and the cafeteria will have people selling items for all ages!! Money earned from vendor fees and sales at the concession stand goes towards field trips for middle schoolers.\n\n\n\nWe want to thank Hansen's IGA\, Prem Meats\, John Joseph Coffee\, and Dunkin Donuts for their generous donations to our concession stand.
X-ALT-DESC;FMTTYPE=text/html:The 2nd Annual Sauk Prairie Middle School Spring Craft &amp\; Vendor Fair will have over 70 crafters and vendors showcasing their items. Both gyms and the cafeteria will have people selling items for all ages!! Money earned from vendor fees and sales at the concession stand goes towards field trips for middle schoolers.<br />\n<br />\nWe want to thank Hansen&#39\;s IGA\, Prem Meats\, John Joseph Coffee\, and Dunkin Donuts for their generous donations to our concession stand.
LOCATION:Sauk Prairie Middle School
UID:e.1184.31572
SEQUENCE:3
DTSTAMP:20260420T003835Z
URL:http://members.saukprairie.com/events/details/sauk-prairie-middle-school-spring-craft-vendor-fair-03-16-2024-31572
END:VEVENT

END:VCALENDAR
