BEGIN:VCALENDAR
VERSION:2.0
PRODID:-//ChamberMaster//Event Calendar 2.0//EN
METHOD:PUBLISH
X-PUBLISHED-TTL:P3D
REFRESH-INTERVAL:P3D
CALSCALE:GREGORIAN
BEGIN:VEVENT
DTSTART:20230401T140000Z
DTEND:20230401T200000Z
X-MICROSOFT-CDO-ALLDAYEVENT:FALSE
SUMMARY:Sauk Prairie Middle School Spring Craft & Vendor Fair
DESCRIPTION:Join us for the Spring Craft & Vendor Fair at Sauk Prairie Middle School. Funds raised will support end-of-the-year field trips for students! Let's get ready for spring with over 75 vendors!!
X-ALT-DESC;FMTTYPE=text/html:Join us for the Spring Craft &amp\; Vendor Fair at Sauk Prairie Middle School. Funds raised will support end-of-the-year field trips for students! Let&#39\;s get ready for spring with over 75 vendors!!
LOCATION:Sauk Prairie Middle School
UID:e.1184.30706
SEQUENCE:3
DTSTAMP:20260420T155242Z
URL:http://members.saukprairie.com/events/details/sauk-prairie-middle-school-spring-craft-vendor-fair-30706
END:VEVENT

END:VCALENDAR
