BEGIN:VCALENDAR
VERSION:2.0
PRODID:-//ChamberMaster//Event Calendar 2.0//EN
METHOD:PUBLISH
X-PUBLISHED-TTL:P3D
REFRESH-INTERVAL:P3D
CALSCALE:GREGORIAN
BEGIN:VEVENT
DTSTART:20170801T230000Z
DTEND:20170802T010000Z
X-MICROSOFT-CDO-ALLDAYEVENT:FALSE
SUMMARY:Sauk Prairie Night Out
DESCRIPTION:Sauk Prairie Night Out is an annual event designed to strengthen neighborhood spirit through police\, other emergency services and community partnerships.  The goal is to heighten crime prevention awareness\, understand local anti-crime programs and explore several services and safety topics.  This is an opportunity to interact with those who serve our community.  Here is some of what you can interact in:  \n\n\n	Sauk County Search and Rescue Helicopter- Landing at approximately 6pm for families to explore- Fly High Wisconsin\n	Internet Crimes Safety Information - Sauk Prairie Police Dept and Safe Community Coalition\n	Texting and Drunk Driving Simulator on the Neighborhood Electric Vehicle   SP Police Dept\n	Tour a Police Squad and Bike Safety   Sauk Prairie Police Department\n	Understand Fire Safety - Sauk City Fire Department.  \n	Rope Rescue Simulation and Fire Safety   Prairie Du Sac Fire Department\n	First Aid Information and Tour of the Ambulance   Sauk Prairie Ambulance\n	Bucket Truck rides and other Equipment   Village of Prairie Du Sac      \n	Bucket Truck rides and other Equipment - Village of Sauk City\n	Dog Bite Safety   Jim Marsden State Farm Agency\n	Child & Adolescent Safety\; Prescription\, Non-Prescription and Chemical Hazard Education   Sauk Prairie Healthcare\n	Safe Behaviors Education and info. on WI Registered Sex Offenders-WI Dept of Corrections \n	Safe at Home-Safe in the Community - Hope House\n	United States Coast Guard Auxiliary with Boating Safety\, Search and Rescue \n	Disaster Services Vehicle   Salvation Army\n	Never Leave Your Child or Pet Alone   Sauk Prairie Safe Community Coalition\n	Sauk Prairie Safe Community Coalition with several safety topics available \n	FOOD VENDOR:  TJ's Catering for a variety of sandwich's and brats to purchase\, plus more.\n\n	 \n\n	Contact:  Lisa Wenzel\, Sauk Prairie Safe Community Coalition (SPSCC) with questions at spscc3@charter.net or 608-963-2716
X-ALT-DESC;FMTTYPE=text/html:<div style="border:solid windowtext 1.0pt\;padding:1.0pt 5.0pt 1.0pt 4.0pt\;margin-left:0in\;margin-right:6.0pt\;"><span style="font-size:14px\;"><span style="font-family:calisto mt\,serif\;">Sauk Prairie Night Out is an annual event designed to strengthen neighborhood spirit through police\, other emergency services and community partnerships.&nbsp\; The goal is to heighten crime prevention awareness\, understand local anti-crime programs and explore several services and safety topics.&nbsp\; This is an opportunity to interact with those who serve our community.&nbsp\; Here is some of what you can interact in:&nbsp\;&nbsp\;</span></span></div>\n\n<ul>\n	<li style="margin-right:6.0pt\;text-autospace:none\;"><span style="font-family:calisto mt\,serif\;">Sauk County Search and Rescue Helicopter- Landing at approximately 6pm for families to explore- Fly High Wisconsin</span></li>\n	<li style="margin-right:6.0pt\;text-autospace:none\;"><span style="font-family:calisto mt\,serif\;">Internet Crimes Safety Information - Sauk Prairie Police Dept and Safe Community Coalition</span></li>\n	<li style="margin-right:6.0pt\;text-autospace:none\;"><span style="font-family:calisto mt\,serif\;">Texting and Drunk Driving Simulator on the Neighborhood Electric Vehicle &ndash\; SP Police Dept</span></li>\n	<li style="margin-right:6.0pt\;text-autospace:none\;"><span style="font-family:calisto mt\,serif\;">Tour a Police Squad and Bike Safety &ndash\; Sauk Prairie Police Department</span></li>\n	<li style="margin-right:6.0pt\;text-autospace:none\;"><span style="font-family:calisto mt\,serif\;">Understand Fire Safety - Sauk City Fire Department.&nbsp\; </span></li>\n	<li style="margin-right:6.0pt\;text-autospace:none\;"><span style="font-family:calisto mt\,serif\;">Rope Rescue Simulation and Fire Safety &ndash\; Prairie Du Sac Fire Department</span></li>\n	<li style="margin-right:6.0pt\;text-autospace:none\;"><span style="font-family:calisto mt\,serif\;">First Aid Information and Tour of the Ambulance &ndash\; Sauk Prairie Ambulance</span></li>\n	<li style="margin-right:6.0pt\;text-autospace:none\;"><span style="font-family:calisto mt\,serif\;">Bucket Truck rides and other Equipment &ndash\; Village of Prairie Du Sac&nbsp\;&nbsp\;&nbsp\;&nbsp\;&nbsp\; </span></li>\n	<li style="margin-right:6.0pt\;text-autospace:none\;"><span style="font-family:calisto mt\,serif\;">Bucket Truck rides and other Equipment - Village of Sauk City</span></li>\n	<li style="margin-right:6.0pt\;text-autospace:none\;"><span style="font-family:calisto mt\,serif\;">Dog Bite Safety &ndash\; Jim Marsden State Farm Agency</span></li>\n	<li style="margin-right:6.0pt\;text-autospace:none\;"><span style="font-family:calisto mt\,serif\;">Child &amp\; Adolescent Safety\; Prescription\, Non-Prescription and Chemical Hazard Education &ndash\; Sauk Prairie Healthcare</span></li>\n	<li style="margin-right:6.0pt\;text-autospace:none\;"><span style="font-family:calisto mt\,serif\;">Safe Behaviors Education and info. on WI Registered Sex Offenders-WI Dept of Corrections </span></li>\n	<li style="margin-right:6.0pt\;text-autospace:none\;"><span style="font-family:calisto mt\,serif\;">Safe at Home-Safe in the Community - Hope House</span></li>\n	<li style="margin-right:6.0pt\;text-autospace:none\;"><span style="font-family:calisto mt\,serif\;">United States Coast Guard Auxiliary with Boating Safety\, Search and Rescue </span></li>\n	<li style="margin-right:6.0pt\;text-autospace:none\;"><span style="font-family:calisto mt\,serif\;">Disaster Services Vehicle &ndash\; Salvation Army</span></li>\n	<li style="margin-right:6.0pt\;text-autospace:none\;"><span style="font-family:calisto mt\,serif\;">Never Leave Your Child or Pet Alone &ndash\; Sauk Prairie Safe Community Coalition</span></li>\n	<li style="margin-right:6.0pt\;text-autospace:none\;"><span style="font-family:calisto mt\,serif\;">Sauk Prairie Safe Community Coalition with several safety topics available </span></li>\n	<li><strong><span style="font-family:calisto mt\,serif\;">FOOD VENDOR</span></strong><span style="font-family:calisto mt\,serif\;">:&nbsp\; TJ&rsquo\;s Catering for a variety of sandwich&rsquo\;s and brats to purchase\, plus more.</span><br />\n	&nbsp\;<br />\n	<strong><span style="font-family:calisto mt\,serif\;">Contact:&nbsp\; </span></strong><span style="font-family:calisto mt\,serif\;">Lisa Wenzel\, Sauk Prairie Safe Community Coalition (SPSCC) with questions at <a href="mailto:spscc3@charter.net">spscc3@charter.net</a> or 608-963-2716</span>&nbsp\; &nbsp\; &nbsp\; &nbsp\; &nbsp\; &nbsp\;&nbsp\;</li>\n</ul>\n
LOCATION:Marion Park\, Prairie Du Sac
UID:e.1184.11836
SEQUENCE:3
DTSTAMP:20260425T014629Z
URL:http://members.saukprairie.com/events/details/sauk-prairie-night-out-11836
END:VEVENT

END:VCALENDAR
