BEGIN:VCALENDAR
VERSION:2.0
PRODID:-//ChamberMaster//Event Calendar 2.0//EN
METHOD:PUBLISH
X-PUBLISHED-TTL:P3D
REFRESH-INTERVAL:P3D
CALSCALE:GREGORIAN
BEGIN:VEVENT
DTSTART:20190806T230000Z
DTEND:20190807T010000Z
X-MICROSOFT-CDO-ALLDAYEVENT:FALSE
SUMMARY:Sauk Prairie Night Out
DESCRIPTION:Sauk Prairie Night Out is an annual event designed to strengthen neighborhood spirit through police\, other emergency services and community partnerships.  The goal is to heighten crime prevention awareness\, understand local anti-crime programs and explore several services and safety topics.  This is an opportunity to interact with those who serve our community.
X-ALT-DESC;FMTTYPE=text/html:<div style="border:solid windowtext 1.0pt\;padding:1.0pt 5.0pt 1.0pt 4.0pt\;margin-left:0in\;margin-right:6.0pt\;"><span style="font-size:14px\;"><span style="font-family:calisto mt\,serif\;">Sauk Prairie Night Out is an annual event designed to strengthen neighborhood spirit through police\, other emergency services and community partnerships.&nbsp\; The goal is to heighten crime prevention awareness\, understand local anti-crime programs and explore several services and safety topics.&nbsp\; This is an opportunity to interact with those who serve our community.&nbsp\;&nbsp\;</span></span></div>\n\n<div style="margin-right:6.0pt\;text-autospace:none\;"><span style="font-family:calisto mt\,serif\;">&#8203\;</span>&nbsp\; &nbsp\; &nbsp\; &nbsp\; &nbsp\;&nbsp\;</div>\n
LOCATION:Marion Park\, Prairie Du Sac
UID:e.1184.22656
SEQUENCE:3
DTSTAMP:20260423T124413Z
URL:http://members.saukprairie.com/events/details/sauk-prairie-night-out-22656
END:VEVENT

END:VCALENDAR
