BEGIN:VCALENDAR
VERSION:2.0
PRODID:-//ChamberMaster//Event Calendar 2.0//EN
METHOD:PUBLISH
X-PUBLISHED-TTL:P3D
REFRESH-INTERVAL:P3D
CALSCALE:GREGORIAN
BEGIN:VEVENT
DTSTART:20180403T213000Z
DTEND:20180404T000000Z
X-MICROSOFT-CDO-ALLDAYEVENT:FALSE
SUMMARY:Sauk Prairie Optimist Club ELECTION DAY Spaghetti Dinner
DESCRIPTION:Spaghetti Supper\, catered by Pizza Hut. Tickets available at the door or from Optimist Members.
X-ALT-DESC;FMTTYPE=text/html:Spaghetti Supper\, catered by Pizza Hut. Tickets available at the door or from Optimist Members.&nbsp\;
LOCATION:Community Education Center 730 Monroe St.\, Sauk City\, WI
UID:e.1184.17742
SEQUENCE:3
DTSTAMP:20260424T130059Z
URL:http://members.saukprairie.com/events/details/sauk-prairie-optimist-club-election-day-spaghetti-dinner-17742
END:VEVENT

END:VCALENDAR
