BEGIN:VCALENDAR
VERSION:2.0
PRODID:-//ChamberMaster//Event Calendar 2.0//EN
METHOD:PUBLISH
X-PUBLISHED-TTL:P3D
REFRESH-INTERVAL:P3D
CALSCALE:GREGORIAN
BEGIN:VEVENT
DTSTART;VALUE=DATE:20171118
DTEND;VALUE=DATE:20171119
TRANSP:TRANSPARENT
X-MICROSOFT-CDO-ALLDAYEVENT:TRUE
SUMMARY:Sauk Prairie Optimist Club Fundraiser at Papa Murphy's
DESCRIPTION:SAUK PRAIRIE OPTIMIST CLUB FUNDRAISER \n\nSATURDAY\, NOVEMBER 18th\, 2017\n\n\n\nPapa Murphy's will donate to the Sauk Prairie Optimist Club resulting in scholarships for local students.
X-ALT-DESC;FMTTYPE=text/html:<span style="font-size:14px\;"><span style="font-family:tahoma\;"><strong><span style="color:#002060\;">SAUK PRAIRIE OPTIMIST CLUB </span></strong><strong><span style="color:#003300\;">FUNDRAISER </span></strong></span></span><br />\n<strong style="font-family: tahoma\; line-height: 22.4px\;"><span style="color: rgb(204\, 51\, 0)\;"><span style="font-size: 14px\;">SATURDAY\, NOVEMBER</span><span style="font-size: 11.6667px\;">&nbsp\;18th</span><span style="font-size: 14px\;">\, 2017</span></span></strong><br />\n<br />\nPapa Murphy&rsquo\;s will donate to&nbsp\;the Sauk Prairie Optimist Club resulting in scholarships for local students. &nbsp\;<br />\n<br />\n<br style="font-family: tahoma\; font-size: 14px\; line-height: 22.4px\;" />\n&nbsp\;
LOCATION:Papa Murphy's\, 1430 Prairie Avenue\, Prairie du Sac
UID:e.1184.13984
SEQUENCE:3
DTSTAMP:20260424T222355Z
URL:http://members.saukprairie.com/events/details/sauk-prairie-optimist-club-fundraiser-at-papa-murphy-s-13984
END:VEVENT

END:VCALENDAR
