BEGIN:VCALENDAR
VERSION:2.0
PRODID:-//ChamberMaster//Event Calendar 2.0//EN
METHOD:PUBLISH
X-PUBLISHED-TTL:P3D
REFRESH-INTERVAL:P3D
CALSCALE:GREGORIAN
BEGIN:VEVENT
DTSTART;VALUE=DATE:20161022
DTEND;VALUE=DATE:20161023
TRANSP:TRANSPARENT
X-MICROSOFT-CDO-ALLDAYEVENT:TRUE
SUMMARY:Sauk Prairie Optimist Club Fundraiser at Papa Murphy's
DESCRIPTION:SAUK PRAIRIE OPTIMIST CLUB FUNDRAISER \n\nSATURDAY\, OCTOBER 22nd\, 2016 | 10am-9pm\n\n\n\n\n\nCelebrate Football Frenzy Saturday with a Papa Murphy's Pizza!\n\nFor every Large or Family size pizza sold on October 22nd\, Papa Murphy's will donate to the Sauk Prairie Optimist Club resulting in scholarships for local students.
X-ALT-DESC;FMTTYPE=text/html:<span style="font-size:14px\;"><span style="font-family:tahoma\;"><strong><span style="color:#002060\;">SAUK PRAIRIE OPTIMIST CLUB </span></strong><strong><span style="color:#003300\;">FUNDRAISER </span></strong></span></span><br />\n<strong style="font-family: tahoma\; font-size: 14px\; line-height: 22.4px\;"><span style="color: rgb(204\, 51\, 0)\;">SATURDAY\, OCTOBER 22<sup>nd</sup>\, 2016 | 10am-9pm</span></strong><br />\n<br />\n<br />\nCelebrate Football Frenzy Saturday with a Papa Murphy&rsquo\;s Pizza!<br />\nFor every Large or Family size pizza sold on October 22nd\, Papa Murphy&rsquo\;s will donate to&nbsp\;the Sauk Prairie Optimist Club resulting in scholarships for local students. &nbsp\;<br />\n<br />\n<br style="font-family: tahoma\; font-size: 14px\; line-height: 22.4px\;" />\n&nbsp\;
LOCATION:Papa Murphy's\, 1430 Prairie Avenue\, Prairie du Sac
UID:e.1184.9374
SEQUENCE:3
DTSTAMP:20260425T174047Z
URL:http://members.saukprairie.com/events/details/sauk-prairie-optimist-club-fundraiser-at-papa-murphy-s-9374
END:VEVENT

END:VCALENDAR
