BEGIN:VCALENDAR
VERSION:2.0
PRODID:-//ChamberMaster//Event Calendar 2.0//EN
METHOD:PUBLISH
X-PUBLISHED-TTL:P3D
REFRESH-INTERVAL:P3D
CALSCALE:GREGORIAN
BEGIN:VEVENT
DTSTART:20160405T213000Z
DTEND:20160405T234500Z
X-MICROSOFT-CDO-ALLDAYEVENT:FALSE
SUMMARY:Sauk Prairie Optimist Club Spaghetti Dinner
DESCRIPTION:Menu: Spaghetti with meat sauce\, garlic bread\, salad with croutons\, and choice of Ranch or French Dressing\, Parmesan Cheese\, Dessert\, Coffee and Milk\n\n\n\nTickets: Adults - $8.00 \n\n               Kids ages 4-12 - $4.00\n\n\n\nOptimist Nuts/Candy Available for Sale and 50/50 Raffle
X-ALT-DESC;FMTTYPE=text/html:<br />\n<em><strong>Menu:</strong></em> Spaghetti with meat sauce\, garlic bread\, salad with croutons\, and choice of Ranch or French Dressing\, Parmesan Cheese\, Dessert\, Coffee and Milk<br />\n<br />\n<em><strong>Tickets:</strong></em> Adults - $8.00&nbsp\;<br />\n&nbsp\;&nbsp\;&nbsp\;&nbsp\;&nbsp\;&nbsp\;&nbsp\;&nbsp\;&nbsp\;&nbsp\;&nbsp\; &nbsp\;&nbsp\;&nbsp\;Kids ages 4-12 - $4.00<br />\n<br />\nOptimist Nuts/Candy Available for Sale and 50/50 Raffle<br />\n&nbsp\;
LOCATION:Community Education Center 730 Monroe Street Sauk City\, WI
UID:e.1184.8405
SEQUENCE:3
DTSTAMP:20260426T033451Z
URL:http://members.saukprairie.com/events/details/sauk-prairie-optimist-club-spaghetti-dinner-04-05-2016-8405
END:VEVENT

END:VCALENDAR
