BEGIN:VCALENDAR
VERSION:2.0
PRODID:-//ChamberMaster//Event Calendar 2.0//EN
METHOD:PUBLISH
X-PUBLISHED-TTL:P3D
REFRESH-INTERVAL:P3D
CALSCALE:GREGORIAN
BEGIN:VEVENT
DTSTART:20191105T223000Z
DTEND:20191106T010000Z
X-MICROSOFT-CDO-ALLDAYEVENT:FALSE
SUMMARY:Sauk Prairie Optimist Club Spaghetti Dinner
DESCRIPTION:Tickets available at the door and from Optimist Members\n\n\n\nCatered by Riviera Bowl\n\n\n\nHomemade desserts by Optimist Members
X-ALT-DESC;FMTTYPE=text/html:<p>Tickets available at the door and from Optimist Members<br />\n<br />\nCatered by Riviera Bowl<br />\n<br />\nHomemade desserts by Optimist Members</p>\n
LOCATION:Community Education Center 730 Monroe St.\, Sauk City\, WI
UID:e.1184.23581
SEQUENCE:3
DTSTAMP:20260423T085753Z
URL:http://members.saukprairie.com/events/details/sauk-prairie-optimist-club-spaghetti-dinner-23581
END:VEVENT

END:VCALENDAR
