BEGIN:VCALENDAR
VERSION:2.0
PRODID:-//ChamberMaster//Event Calendar 2.0//EN
METHOD:PUBLISH
X-PUBLISHED-TTL:P3D
REFRESH-INTERVAL:P3D
CALSCALE:GREGORIAN
BEGIN:VEVENT
DTSTART:20211102T210000Z
DTEND:20211103T000000Z
X-MICROSOFT-CDO-ALLDAYEVENT:FALSE
SUMMARY:Sauk Prairie Optimist Club Spaghetti Dinner
DESCRIPTION:SP Optimist Club Spaghetti Dinner Catered by Riviera Bowl
X-ALT-DESC;FMTTYPE=text/html:<p>SP Optimist Club Spaghetti Dinner Catered by Riviera Bowl<br />\n<br />\n&nbsp\;</p>\n
LOCATION:Riviera Bowl 51 Polk Street\, Sauk City
UID:e.1184.26916
SEQUENCE:3
DTSTAMP:20260421T214702Z
URL:http://members.saukprairie.com/events/details/sauk-prairie-optimist-club-spaghetti-dinner-26916
END:VEVENT

END:VCALENDAR
