BEGIN:VCALENDAR
VERSION:2.0
PRODID:-//ChamberMaster//Event Calendar 2.0//EN
METHOD:PUBLISH
X-PUBLISHED-TTL:P3D
REFRESH-INTERVAL:P3D
CALSCALE:GREGORIAN
BEGIN:VEVENT
DTSTART:20220405T210000Z
DTEND:20220406T000000Z
X-MICROSOFT-CDO-ALLDAYEVENT:FALSE
SUMMARY:Sauk Prairie Optimist Club Spaghetti Dinner
DESCRIPTION:SP Optimist Club Spaghetti Dinner Catered by Riviera Bowl\n\n\n\nMeal Includes: spaghetti with meat sauce\, salad\, garlic twists\, and individually wrapped desserts.\n\n\n\nDrive Thru Pick-Up only (Enter north of Ace Hardware)\n\n\n\nAdults - $10\n\nFamily Order - $18 (feeds 2-3)\n\n\n\nHelp support the Sauk Prairie Optimists and SPHS Scholarships with every dinner purchased!
X-ALT-DESC;FMTTYPE=text/html:<p>SP Optimist Club Spaghetti Dinner Catered by Riviera Bowl<br />\n<br />\nMeal Includes: spaghetti with meat sauce\, salad\, garlic twists\, and individually wrapped desserts.<br />\n<br />\nDrive Thru Pick-Up only (Enter north of Ace Hardware)<br />\n<br />\nAdults - $10<br />\nFamily Order - $18 (feeds 2-3)<br />\n<br />\nHelp support the Sauk Prairie Optimists and SPHS Scholarships with every dinner purchased!<br />\n&nbsp\;</p>\n
LOCATION:Riviera Bowl 51 Polk Street\, Sauk City
UID:e.1184.27189
SEQUENCE:3
DTSTAMP:20260421T145040Z
URL:http://members.saukprairie.com/events/details/sauk-prairie-optimist-club-spaghetti-dinner-27189
END:VEVENT

END:VCALENDAR
