BEGIN:VCALENDAR
VERSION:2.0
PRODID:-//ChamberMaster//Event Calendar 2.0//EN
METHOD:PUBLISH
X-PUBLISHED-TTL:P3D
REFRESH-INTERVAL:P3D
CALSCALE:GREGORIAN
BEGIN:VEVENT
DTSTART:20231107T220000Z
DTEND:20231108T010000Z
X-MICROSOFT-CDO-ALLDAYEVENT:FALSE
SUMMARY:Sauk Prairie Optimist Club Spaghetti Dinner
DESCRIPTION:SP Optimist Club Spaghetti Dinner Catered by Riviera Bowl\n\n\n\nDRIVE THRU PICK-UP and SOME SEATING AVAILABLE\n\n(Enter north of Ace Hardware)\n\n\n\nMEAL INCLUDES: SPAGHETTI WITH MEAT SAUCE\, SALAD\, GARLIC TWISTS\, AND INDIVIDUALLY WRAPPED DESSERTS\n\n\n\nSINGLE ORDER- $12\n\nFAMILY ORDER- $20 (FEEDS 2-3)\n\n\n\nHELP SUPPORT THE SAUK PRAIRIE OPTIMISTS AND SPHS SCHOLARSHIPS WITH EVERY DINNER PURCHASED!
X-ALT-DESC;FMTTYPE=text/html:<p>SP Optimist Club Spaghetti Dinner Catered by Riviera Bowl<br />\n<br />\nDRIVE THRU PICK-UP and SOME SEATING AVAILABLE<br />\n(Enter north of Ace Hardware)<br />\n<br />\nMEAL INCLUDES: SPAGHETTI WITH MEAT SAUCE\, SALAD\, GARLIC TWISTS\, AND INDIVIDUALLY WRAPPED DESSERTS<br />\n<br />\nSINGLE ORDER- $12<br />\nFAMILY ORDER- $20 (FEEDS 2-3)<br />\n<br />\nHELP SUPPORT THE SAUK PRAIRIE OPTIMISTS AND SPHS SCHOLARSHIPS WITH EVERY DINNER PURCHASED!</p>\n
LOCATION:Riviera Bowl 51 Polk Street\, Sauk City
UID:e.1184.31207
SEQUENCE:3
DTSTAMP:20260420T044624Z
URL:http://members.saukprairie.com/events/details/sauk-prairie-optimist-club-spaghetti-dinner-31207
END:VEVENT

END:VCALENDAR
