BEGIN:VCALENDAR
VERSION:2.0
PRODID:-//ChamberMaster//Event Calendar 2.0//EN
METHOD:PUBLISH
X-PUBLISHED-TTL:P3D
REFRESH-INTERVAL:P3D
CALSCALE:GREGORIAN
BEGIN:VEVENT
DTSTART:20241105T220000Z
DTEND:20241106T010000Z
X-MICROSOFT-CDO-ALLDAYEVENT:FALSE
SUMMARY:Sauk Prairie Optimist Club Spaghetti Dinner
DESCRIPTION:Sauk Prairie Optimist Club\n\n \n\nELECTION DAY\n\nSpaghetti Dinner                       \n\nTuesday\, November 5th\, 2024\n\n4:00   7:00 P.M or until sold out!\n\n                                                                          \n\nAt the RIVIERA BOWL\n\n51 Polk Street\, Sauk City\, WI\n\nDRIVE THRU PICK-UP and\n\nSOME SEATING AVAILABLE\n\n(Enter north of Ace Hardware)\n\n \n\nMEAL INCLUDES: SPAGHETTI WITH MEAT SAUCE\, SALAD\,\n\nGARLIC TWISTS\, AND INDIVIDUALLY WRAPPED DESSERTS\n\n \n\nSINGLE ORDER- $12\n\nFAMILY ORDER- $20 (FEEDS 2-3)\n\n                \n\nHELP SUPPORT THE SAUK PRAIRIE OPTIMISTS\n\nAND SPHS SCHOLARSHIPS WITH EVERY DINNER PURCHASED!
X-ALT-DESC;FMTTYPE=text/html:<p>Sauk Prairie Optimist Club<br />\n&nbsp\;<br />\nELECTION DAY<br />\nSpaghetti Dinner&nbsp\;&nbsp\;&nbsp\;&nbsp\;&nbsp\;&nbsp\;&nbsp\;&nbsp\;&nbsp\;&nbsp\;&nbsp\;&nbsp\;&nbsp\;&nbsp\;&nbsp\;&nbsp\;&nbsp\;&nbsp\;&nbsp\;&nbsp\;&nbsp\;&nbsp\;&nbsp\;<br />\nTuesday\, November 5th\, 2024<br />\n4:00 &ndash\; 7:00 P.M or until sold out!<br />\n&nbsp\;&nbsp\;&nbsp\;&nbsp\;&nbsp\;&nbsp\;&nbsp\;&nbsp\;&nbsp\;&nbsp\;&nbsp\;&nbsp\;&nbsp\;&nbsp\;&nbsp\;&nbsp\;&nbsp\;&nbsp\;&nbsp\;&nbsp\;&nbsp\;&nbsp\;&nbsp\;&nbsp\;&nbsp\;&nbsp\;&nbsp\;&nbsp\;&nbsp\;&nbsp\;&nbsp\;&nbsp\;&nbsp\;&nbsp\;&nbsp\;&nbsp\;&nbsp\;&nbsp\;&nbsp\;&nbsp\;&nbsp\;&nbsp\;&nbsp\;&nbsp\;&nbsp\;&nbsp\;&nbsp\;&nbsp\;&nbsp\;&nbsp\;&nbsp\;&nbsp\;&nbsp\;&nbsp\;&nbsp\;&nbsp\;&nbsp\;&nbsp\;&nbsp\;&nbsp\;&nbsp\;&nbsp\;&nbsp\;&nbsp\;&nbsp\;&nbsp\;&nbsp\;&nbsp\;&nbsp\;&nbsp\;&nbsp\;&nbsp\;&nbsp\;&nbsp\;<br />\nAt the RIVIERA BOWL<br />\n51 Polk Street\, Sauk City\, WI<br />\nDRIVE THRU PICK-UP and<br />\nSOME SEATING AVAILABLE<br />\n(Enter north of Ace Hardware)<br />\n&nbsp\;<br />\nMEAL INCLUDES: SPAGHETTI WITH MEAT SAUCE\, SALAD\,<br />\nGARLIC TWISTS\, AND INDIVIDUALLY WRAPPED DESSERTS<br />\n&nbsp\;<br />\nSINGLE ORDER- $12<br />\nFAMILY ORDER- $20 (FEEDS 2-3)<br />\n&nbsp\;&nbsp\;&nbsp\;&nbsp\;&nbsp\;&nbsp\;&nbsp\;&nbsp\;&nbsp\;&nbsp\;&nbsp\;&nbsp\;&nbsp\;&nbsp\;&nbsp\;&nbsp\;<br />\nHELP SUPPORT THE SAUK PRAIRIE OPTIMISTS<br />\nAND SPHS SCHOLARSHIPS WITH EVERY DINNER PURCHASED!<strong> </strong></p>\n
LOCATION:Riviera Bowl 51 Polk Street\, Sauk City
UID:e.1184.33481
SEQUENCE:3
DTSTAMP:20260419T131120Z
URL:http://members.saukprairie.com/events/details/sauk-prairie-optimist-club-spaghetti-dinner-33481
END:VEVENT

END:VCALENDAR
