BEGIN:VCALENDAR
VERSION:2.0
PRODID:-//ChamberMaster//Event Calendar 2.0//EN
METHOD:PUBLISH
X-PUBLISHED-TTL:P3D
REFRESH-INTERVAL:P3D
CALSCALE:GREGORIAN
BEGIN:VEVENT
DTSTART:20161108T223000Z
DTEND:20161109T010000Z
X-MICROSOFT-CDO-ALLDAYEVENT:FALSE
SUMMARY:Sauk Prairie Optimist Club Spaghetti Dinner
DESCRIPTION:Spaghetti Supper\, catered by Pizza Hut. Tickets available at the door and from Optimist Members.
X-ALT-DESC;FMTTYPE=text/html:Spaghetti Supper\, catered by Pizza Hut. Tickets available at the door and from Optimist Members.&nbsp\;
LOCATION:Community Education Center 730 Monroe St.\, Sauk City\, WI
UID:e.1184.9404
SEQUENCE:3
DTSTAMP:20260425T160940Z
URL:http://members.saukprairie.com/events/details/sauk-prairie-optimist-club-spaghetti-dinner-9404
END:VEVENT

END:VCALENDAR
