BEGIN:VCALENDAR
VERSION:2.0
PRODID:-//ChamberMaster//Event Calendar 2.0//EN
METHOD:PUBLISH
X-PUBLISHED-TTL:P3D
REFRESH-INTERVAL:P3D
CALSCALE:GREGORIAN
BEGIN:VEVENT
DTSTART:20160528T160000Z
DTEND:20160528T190000Z
X-MICROSOFT-CDO-ALLDAYEVENT:FALSE
SUMMARY:Sauk Prairie Optimist Food Stand
DESCRIPTION:Hot Beef Sandwiches\, Hotdogs\, Chips\, Cookies\, Bottled Water & Soda!
X-ALT-DESC;FMTTYPE=text/html:Hot Beef Sandwiches\, Hotdogs\, Chips\, Cookies\, Bottled Water &amp\; Soda!&nbsp\;&nbsp\;&nbsp\;&nbsp\;
LOCATION:Ace Sauk Prairie Parking Lot
UID:e.1184.8570
SEQUENCE:3
DTSTAMP:20260426T020407Z
URL:http://members.saukprairie.com/events/details/sauk-prairie-optimist-food-stand-05-28-2016-8570
END:VEVENT

END:VCALENDAR
