BEGIN:VCALENDAR
VERSION:2.0
PRODID:-//ChamberMaster//Event Calendar 2.0//EN
METHOD:PUBLISH
X-PUBLISHED-TTL:P3D
REFRESH-INTERVAL:P3D
CALSCALE:GREGORIAN
BEGIN:VEVENT
DTSTART:20160716T160000Z
DTEND:20160716T200000Z
X-MICROSOFT-CDO-ALLDAYEVENT:FALSE
SUMMARY:Sauk Prairie Optimist Hot Dog Stand
DESCRIPTION:Featuring all beef hot dogs\, chips\, cookies & bars\, soda & water
X-ALT-DESC;FMTTYPE=text/html:Featuring all beef hot dogs\, chips\, cookies &amp\; bars\, soda &amp\; water
LOCATION:Ace Sauk Prairie Parking Lot
UID:e.1184.8827
SEQUENCE:3
DTSTAMP:20260425T224654Z
URL:http://members.saukprairie.com/events/details/sauk-prairie-optimist-hot-dog-stand-07-16-2016-8827
END:VEVENT

END:VCALENDAR
