BEGIN:VCALENDAR
VERSION:2.0
PRODID:-//ChamberMaster//Event Calendar 2.0//EN
METHOD:PUBLISH
X-PUBLISHED-TTL:P3D
REFRESH-INTERVAL:P3D
CALSCALE:GREGORIAN
BEGIN:VEVENT
DTSTART:20240806T210000Z
DTEND:20240807T000000Z
X-MICROSOFT-CDO-ALLDAYEVENT:FALSE
SUMMARY:Sauk Prairie Police Department National Night Out
DESCRIPTION:Join Sauk Prairie Police Department for National Night Out @ Culver Community Park\n\n\n\nTuesday\, August 6th 4pm-7pm\n\n	Food\n	Music\n	Games\n	Inflatable Obstacle Course\n	Velcro Wall\n	Dunk Tank\n	Cops & Bobbers\n	Police Equipment Tours\n	Bike Raffle 6:30pm\n\n\n\nSpecial Guests/Thanks:\n\n	Donut NV\n	Jose's\n	Wyttenbach's Command Center\n	Hot Dog Avenue\n	Dunkin Donuts\n	Piggly Wiggly\n	Kwik Trip\n	Wilderness Fish and Game
X-ALT-DESC;FMTTYPE=text/html:Join Sauk Prairie Police Department for National Night Out @ Culver Community Park<br />\n<br />\nTuesday\, August 6th 4pm-7pm\n<ul>\n	<li>Food</li>\n	<li>Music</li>\n	<li>Games</li>\n	<li>Inflatable Obstacle Course</li>\n	<li>Velcro Wall</li>\n	<li>Dunk Tank</li>\n	<li>Cops &amp\; Bobbers</li>\n	<li>Police Equipment Tours</li>\n	<li>Bike Raffle 6:30pm</li>\n</ul>\n<br />\nSpecial Guests/Thanks:\n<ul>\n	<li>Donut NV</li>\n	<li>Jose&#39\;s</li>\n	<li>Wyttenbach&#39\;s Command Center</li>\n	<li>Hot Dog Avenue</li>\n	<li>Dunkin Donuts</li>\n	<li>Piggly Wiggly</li>\n	<li>Kwik Trip</li>\n	<li>Wilderness Fish and Game</li>\n</ul>\n
LOCATION:Culver Community Park
UID:e.1184.32864
SEQUENCE:3
DTSTAMP:20260419T165233Z
URL:http://members.saukprairie.com/events/details/sauk-prairie-police-department-national-night-out-32864
END:VEVENT

END:VCALENDAR
