BEGIN:VCALENDAR
VERSION:2.0
PRODID:-//ChamberMaster//Event Calendar 2.0//EN
METHOD:PUBLISH
X-PUBLISHED-TTL:P3D
REFRESH-INTERVAL:P3D
CALSCALE:GREGORIAN
BEGIN:VEVENT
DTSTART:20220611T160000Z
DTEND:20220611T190000Z
X-MICROSOFT-CDO-ALLDAYEVENT:FALSE
SUMMARY:Sauk Prairie Police Department Ribbon Cutting & Open House
DESCRIPTION:Sauk Prairie Community\, please join the Sauk Prairie Department for their Ribbon Cutting ceremony starting at 11am with an open house to follow!
X-ALT-DESC;FMTTYPE=text/html:Sauk Prairie Community\, please join the Sauk Prairie Department for their Ribbon Cutting ceremony starting at 11am with an open house to follow!
LOCATION:640 13th St\, Prairie du Sac
UID:e.1184.27953
SEQUENCE:3
DTSTAMP:20260421T122117Z
URL:http://members.saukprairie.com/events/details/sauk-prairie-police-department-ribbon-cutting-open-house-27953
END:VEVENT

END:VCALENDAR
