BEGIN:VCALENDAR
VERSION:2.0
PRODID:-//ChamberMaster//Event Calendar 2.0//EN
METHOD:PUBLISH
X-PUBLISHED-TTL:P3D
REFRESH-INTERVAL:P3D
CALSCALE:GREGORIAN
BEGIN:VEVENT
DTSTART:20221217T160000Z
DTEND:20221217T200000Z
X-MICROSOFT-CDO-ALLDAYEVENT:FALSE
SUMMARY:Sauk Prairie Shop & Ride
DESCRIPTION:Support Sauk Prairie Retail Businesses and grab a horse drawn wagon ride down Water Street.\n\nRides are provided by Fosters Belgium Bottoms. Sponsored by Water Street Retail Businesses.
X-ALT-DESC;FMTTYPE=text/html:<div class="xdj266r x11i5rnm xat24cr x1mh8g0r x1vvkbs" style="margin: 0px\; overflow-wrap: break-word\; font-family: &quot\;Segoe UI Historic&quot\;\, &quot\;Segoe UI&quot\;\, Helvetica\, Arial\, sans-serif\; color: rgb(5\, 5\, 5)\; font-size: 15px\;">Support Sauk Prairie Retail Businesses and grab a horse drawn wagon ride down Water Street.</div>\n\n<div class="x11i5rnm xat24cr x1mh8g0r x1vvkbs xtlvy1s" style="margin: 0.5em 0px 0px\; overflow-wrap: break-word\; font-family: &quot\;Segoe UI Historic&quot\;\, &quot\;Segoe UI&quot\;\, Helvetica\, Arial\, sans-serif\; color: rgb(5\, 5\, 5)\; font-size: 15px\;">Rides are provided by Fosters Belgium Bottoms. Sponsored by Water Street Retail Businesses.</div>\n
LOCATION:
UID:e.1184.28784
SEQUENCE:3
DTSTAMP:20260421T004232Z
URL:http://members.saukprairie.com/events/details/sauk-prairie-shop-ride-28784
END:VEVENT

END:VCALENDAR
