BEGIN:VCALENDAR
VERSION:2.0
PRODID:-//ChamberMaster//Event Calendar 2.0//EN
METHOD:PUBLISH
X-PUBLISHED-TTL:P3D
REFRESH-INTERVAL:P3D
CALSCALE:GREGORIAN
BEGIN:VEVENT
DTSTART:20240127T000000Z
DTEND:20240128T043000Z
X-MICROSOFT-CDO-ALLDAYEVENT:FALSE
SUMMARY:Sauk Prairie Show Choir Invitational
DESCRIPTION:Please join us for the Sauk Prairie Show Choir Invitational Friday\, January 26 - Saturday\, January 27\, 2024. The Middle School Division will be Friday\, January 26. Saturday\, January 27 will feature the Prep Class and Open Class groups performing their 2024 shows\, ending the day with six groups competing in finals. Sauk Prairie Middle School's Soaring Sound\, Sauk Prairie High School's YTBN\, and Sauk Prairie High School's Executive Session will perform their shows in exhibition. The Sauk Prairie Show Choir Invitational will take place at Sauk Prairie High School\, 105 5th Street\, Prairie du Sac WI 53578. Tickets may be purchased the day of the competition. Concessions will be available. Please visit the invitational website for the complete schedule and additional information. https://sites.google.com/saukprairieschools.org/january-29th-2022/home\n\n\n\nPerformance Schedule for our local\, host groups:\n\nFriday\, January 26\, 2024\n\n6:00pm - Sauk Prairie YTBN ("Bring It On")\n\n8:05pm - Sauk Prairie Soaring Sound ("Water")\n\n8:30pm - Sauk Prairie Executive Session ("All Shook Up")\n\n\n\nSaturday\, January 27\, 2024 \n\n5:25pm - Sauk Prairie Executive Session ("All Shook Up")\n\n9:35pm - Sauk Prairie YTBN ("Bring It On")
X-ALT-DESC;FMTTYPE=text/html:<div>\n<div>Please join us for the Sauk Prairie Show Choir Invitational Friday\, January 26 - Saturday\, January 27\, 2024. The Middle School Division will be Friday\, January 26. Saturday\, January 27 will feature the Prep Class and Open Class groups performing their 2024 shows\, ending the day with six groups competing in finals. Sauk Prairie Middle School&#39\;s Soaring Sound\, Sauk Prairie High School&#39\;s YTBN\, and Sauk Prairie High School&#39\;s Executive Session will perform their shows in exhibition. The Sauk Prairie Show Choir Invitational will take place at Sauk Prairie High School\, 105 5th Street\, Prairie du Sac WI 53578. Tickets may be purchased the day of the competition. Concessions will be available. Please visit the invitational website for the complete schedule and additional information.&nbsp\;https://sites.google.com/saukprairieschools.org/january-29th-2022/home<br />\n<br />\n<u><strong>Performance Schedule for our local\, host groups:</strong></u><br />\n<strong>Friday\, January 26\, 2024</strong><br />\n6:00pm - Sauk Prairie YTBN (&quot\;Bring It On&quot\;)<br />\n8:05pm - Sauk Prairie Soaring Sound (&quot\;Water&quot\;)<br />\n8:30pm - Sauk Prairie Executive Session (&quot\;All Shook Up&quot\;)<br />\n<br />\n<strong>Saturday\, January 27\, 2024&nbsp\;</strong><br />\n5:25pm - Sauk Prairie Executive Session (&quot\;All Shook Up&quot\;)<br />\n9:35pm - Sauk Prairie YTBN (&quot\;Bring It On&quot\;)<br />\n&nbsp\;</div>\n\n<div>\n<p><br />\n<br />\n&nbsp\;</p>\n\n<p>&nbsp\;</p>\n</div>\n</div>\n
LOCATION:Sauk Prairie High School 105 Ninth Street Prairie du Sac WI 53578
UID:e.1184.31471
SEQUENCE:3
DTSTAMP:20260420T020401Z
URL:http://members.saukprairie.com/events/details/sauk-prairie-show-choir-invitational-01-26-2024-31471
END:VEVENT

END:VCALENDAR
