BEGIN:VCALENDAR
VERSION:2.0
PRODID:-//ChamberMaster//Event Calendar 2.0//EN
METHOD:PUBLISH
X-PUBLISHED-TTL:P3D
REFRESH-INTERVAL:P3D
CALSCALE:GREGORIAN
BEGIN:VEVENT
DTSTART;VALUE=DATE:20190126
DTEND;VALUE=DATE:20190127
TRANSP:TRANSPARENT
X-MICROSOFT-CDO-ALLDAYEVENT:TRUE
SUMMARY:Sauk Prairie Show Choir Invitational
DESCRIPTION:Sauk Prairie Show Choir Invitational\n\nSaturday\, January 26th\n\nSauk Prairie High School\n\n	20 musical groups from throughout Wisconsin will participate in this All-day competition.\n	Tickets: $10 for the Preliminary Competitions (day)\, $10 for Finals (evening)\, $15 for Full Day Pass\n	Sauk Prairie Show Choirs will perform beginning at 5:05 including: Soaring Sound and Executive Session\, with YTBN performing right before the final competitions begin.\n	Don't miss this full day of excellent entertainment - a great value!!
X-ALT-DESC;FMTTYPE=text/html:Sauk Prairie Show Choir Invitational<br />\nSaturday\, January 26th<br />\nSauk Prairie High School\n<ul>\n	<li>20 musical groups from throughout Wisconsin will participate in this All-day competition.</li>\n	<li>Tickets: $10 for the Preliminary Competitions (day)\, $10 for Finals (evening)\, $15 for Full Day Pass</li>\n	<li>Sauk Prairie Show Choirs will perform beginning at 5:05 including: Soaring Sound and Executive Session\, with YTBN performing right before the final competitions begin.</li>\n	<li>Don&#39\;t miss this full day of excellent entertainment - a great value!!</li>\n</ul>\n
LOCATION:
UID:e.1184.21956
SEQUENCE:3
DTSTAMP:20260423T230114Z
URL:http://members.saukprairie.com/events/details/sauk-prairie-show-choir-invitational-21956
END:VEVENT

END:VCALENDAR
