BEGIN:VCALENDAR
VERSION:2.0
PRODID:-//ChamberMaster//Event Calendar 2.0//EN
METHOD:PUBLISH
X-PUBLISHED-TTL:P3D
REFRESH-INTERVAL:P3D
CALSCALE:GREGORIAN
BEGIN:VEVENT
DTSTART;VALUE=DATE:20200125
DTEND;VALUE=DATE:20200126
TRANSP:TRANSPARENT
X-MICROSOFT-CDO-ALLDAYEVENT:TRUE
SUMMARY:Sauk Prairie Show Choir Invitational
DESCRIPTION:Saturday\, January 25th\, 2020\n\nSauk Prairie High School Gym\n\nPrep & Open Competition - 7:30 a.m. - 5:45 p.m.\n\nOpen Class Finals - 6:45 p.m.\n\n\n\nSchools in Competition:\n\nMilton High School\n\nFort Atkinson High School\n\nBrodhead High School\n\nDeForest Area High School\n\nMundelein High School\n\nEisenhower High School\n\nLa Crosse Logan High School\n\nLoveland High School\n\nUnderwood High School\n\nDePere High School\n\nMayville High School\n\nReedsburg High School\n\nKewaskum High School
X-ALT-DESC;FMTTYPE=text/html:Saturday\, January 25th\, 2020<br />\nSauk Prairie High School Gym<br />\nPrep &amp\; Open Competition - 7:30 a.m. - 5:45 p.m.<br />\nOpen Class Finals - 6:45 p.m.<br />\n<br />\nSchools in Competition:<br />\nMilton High School<br />\nFort Atkinson High School<br />\nBrodhead High School<br />\nDeForest Area High School<br />\nMundelein High School<br />\nEisenhower High School<br />\nLa Crosse Logan High School<br />\nLoveland High School<br />\nUnderwood High School<br />\nDePere High School<br />\nMayville High School<br />\nReedsburg High School<br />\nKewaskum High School
LOCATION:
UID:e.1184.23995
SEQUENCE:3
DTSTAMP:20260423T053809Z
URL:http://members.saukprairie.com/events/details/sauk-prairie-show-choir-invitational-23995
END:VEVENT

END:VCALENDAR
