BEGIN:VCALENDAR
VERSION:2.0
PRODID:-//ChamberMaster//Event Calendar 2.0//EN
METHOD:PUBLISH
X-PUBLISHED-TTL:P3D
REFRESH-INTERVAL:P3D
CALSCALE:GREGORIAN
BEGIN:VEVENT
DTSTART;VALUE=DATE:20220129
DTEND;VALUE=DATE:20220130
TRANSP:TRANSPARENT
X-MICROSOFT-CDO-ALLDAYEVENT:TRUE
SUMMARY:Sauk Prairie Show Choir Invitational
DESCRIPTION:Saturday\, January 25th\, 2022\n\nSauk Prairie High School Gym\n\nPrep & Open Competition - 7:30 a.m. - 5:45 p.m.\n\nOpen Class Finals - 7:00 p.m.\n\n\n\nSchools in Competition:\n\nMilton High School\n\nFort Atkinson High School\n\nDePere High School\n\nJanesville Craig High School\n\nMonona Grove High School\n\nLa Crosse Logan High School\n\nEl Paso Gridley High School\n\nUnderwood High School\n\nSt. Francis Area High School\n\nMadison East High School\n\nMayville High School\n\nReedsburg High School\n\nHolmen High School
X-ALT-DESC;FMTTYPE=text/html:Saturday\, January 25th\, 2022<br />\nSauk Prairie High School Gym<br />\nPrep &amp\; Open Competition - 7:30 a.m. - 5:45 p.m.<br />\nOpen Class Finals - 7:00 p.m.<br />\n<br />\n<strong>Schools in Competition:</strong><br />\nMilton High School<br />\nFort Atkinson High School<br />\nDePere High School<br />\nJanesville Craig High School<br />\nMonona Grove High School<br />\nLa Crosse Logan High School<br />\nEl Paso Gridley High School<br />\nUnderwood High School<br />\nSt. Francis Area High School<br />\nMadison East High School<br />\nMayville High School<br />\nReedsburg High School<br />\nHolmen High School<br />\n&nbsp\;
LOCATION:Sauk Prairie High School Gym
UID:e.1184.27094
SEQUENCE:3
DTSTAMP:20260421T174046Z
URL:http://members.saukprairie.com/events/details/sauk-prairie-show-choir-invitational-27094
END:VEVENT

END:VCALENDAR
