BEGIN:VCALENDAR
VERSION:2.0
PRODID:-//ChamberMaster//Event Calendar 2.0//EN
METHOD:PUBLISH
X-PUBLISHED-TTL:P3D
REFRESH-INTERVAL:P3D
CALSCALE:GREGORIAN
BEGIN:VEVENT
DTSTART;VALUE=DATE:20230128
DTEND;VALUE=DATE:20230129
TRANSP:TRANSPARENT
X-MICROSOFT-CDO-ALLDAYEVENT:TRUE
SUMMARY:Sauk Prairie Show Choir Invitational
DESCRIPTION:Saturday\, January 28th\, 2022\n\nSauk Prairie High School Gym\n\n\n\n\n\n\n\n\n\n\nTICKETS AVAILABLE AT FRONT ENTRANCE OF HIGH SCHOOL DAY OF!\n\n$15 FOR PRELIMS\n\n$10 FOR FINALS\n\n$20 FOR ENTIRE DAY\n\n$5 FIVE AND UNDER\n\n\n\nPERFORMANCE SCHEDULE\n\n\n\n\n\n\n\n\n\n\n\n\n\n\n\n\n\n\n\n\n10:00pm - Brodhead Guys and Dolls\n\n10:25am - Fort Atkinson Lexington Singers\n\n10:50am - Milton Octave Above\n\n11:15am - Sparta Upstage Adrenaline\n\n11:40am - New London Vision\n\n12:55pm - Tomah Limited Edition\n\n1:20pm - Mayville Cardinal Singers\n\n1:45pm - Reedsburg Choraliers\n\n2:10pm - Holmen Midwest Express\n\n2:35pm - Fort Atkinson South High St. Singers\n\n3:00pm - DePere Jam Session\n\n3:25pm - Milton Choralation\n\n3:50pm - Sauk Prairie Soaring Sound\n\n4:15pm - Sauk Prairie Executive Session\n\n4:45pm - Day Time Awards\n\n6:00pm - Solo Competition Champion\n\n6:05pm - Sauk Prairie YTBN\n\n6:30pm - FINALIST #1\n\n6:55pm - FINALIST #2\n\n7:20pm - FINALIST #3\n\n7:45pm - FINALIST #4\n\n8:10pm - FINALIST #5\n\n8:35pm - FINALIST #6\n\n9:00pm - Sauk Prairie Executive Session \n\n9:25pm - AWARDS
X-ALT-DESC;FMTTYPE=text/html:Saturday\, January 28th\, 2022<br />\nSauk Prairie High School Gym\n<section id="h.944f60bbfcd5d2d_64">\n<div>\n<div tabindex="-1">\n<div>\n<div>\n<div jsaction="zXBUYb:zTPCnb\;zQF9Uc:Qxe3nd\;" jscontroller="sGwD4d" jsname="F57UId">\n<div>\n<div id="h.944f60bbfcd5d2d_61">\n<div>\n<div>\n<p dir="ltr" line-height:="" open="" padding-top:="" text-align:="">TICKETS AVAILABLE AT FRONT ENTRANCE OF HIGH SCHOOL DAY OF!</p>\n\n<p dir="ltr" line-height:="" open="" text-align:="">$15 FOR PRELIMS<br />\n$10 FOR FINALS<br />\n$20 FOR ENTIRE DAY<br />\n$5 FIVE AND UNDER<br />\n<br />\n<span style="font-size: 13px\;"><strong>PERFORMANCE SCHEDULE</strong></span></p>\n</div>\n</div>\n</div>\n</div>\n</div>\n</div>\n</div>\n</div>\n</div>\n</section>\n\n<section id="h.52a30b0174ec4562_27">\n<div>\n<div tabindex="-1">\n<div>\n<div jsaction="zXBUYb:zTPCnb\;zQF9Uc:Qxe3nd\;" jscontroller="sGwD4d" jsname="F57UId">\n<div>\n<div id="h.52a30b0174ec4562_51">\n<div>\n<div>\n<p dir="ltr" line-height:="" open="" padding-bottom:="" padding-top:="">10:00pm - Brodhead Guys and Dolls<br />\n10:25am - <a href="https://sites.google.com/saukprairieschools.org/january-29th-2022/performing-groups/lexington-singers?authuser=0">Fort Atkinson Lexington Singers</a><br />\n10:50am - <a href="https://sites.google.com/saukprairieschools.org/january-29th-2022/performing-groups/octave-above?authuser=0">Milton Octave Above</a><br />\n11:15am - Sparta Upstage Adrenaline<br />\n11:40am - New London Vision<br />\n12:55pm - Tomah Limited Edition<br />\n1:20pm - <a href="https://sites.google.com/saukprairieschools.org/january-29th-2022/performing-groups/cardinal-singers?authuser=0">Mayville Cardinal Singers</a><br />\n1:45pm - <a href="https://sites.google.com/saukprairieschools.org/january-29th-2022/performing-groups/choraliers?authuser=0">Reedsburg Choraliers</a><br />\n2:10pm - <a href="https://sites.google.com/saukprairieschools.org/january-29th-2022/performing-groups/midwest-express?authuser=0">Holmen Midwest Express</a><br />\n2:35pm - <a href="https://sites.google.com/saukprairieschools.org/january-29th-2022/performing-groups/south-high-street-singers?authuser=0">Fort Atkinson South High St. Singers</a><br />\n3:00pm - <a href="https://sites.google.com/saukprairieschools.org/january-29th-2022/performing-groups/jam-session?authuser=0">DePere Jam Session</a><br />\n3:25pm - <a href="https://sites.google.com/saukprairieschools.org/january-29th-2022/performing-groups/choralation?authuser=0">Milton Choralation</a><br />\n3:50pm - <a href="https://sites.google.com/saukprairieschools.org/january-29th-2022/performing-groups/soaring-sound?authuser=0">Sauk Prairie Soaring Sound</a><br />\n4:15pm - <a href="https://sites.google.com/saukprairieschools.org/january-29th-2022/performing-groups/executive-session?authuser=0">Sauk Prairie Executive Session</a><br />\n4:45pm - Day Time Awards<br />\n6:00pm - Solo Competition Champion<br />\n6:05pm - <a href="https://sites.google.com/saukprairieschools.org/january-29th-2022/performing-groups/ytbn?authuser=0">Sauk Prairie YTBN</a><br />\n6:30pm - FINALIST #1<br />\n6:55pm - FINALIST #2<br />\n7:20pm - FINALIST #3<br />\n7:45pm - FINALIST #4<br />\n8:10pm - FINALIST #5<br />\n8:35pm - FINALIST #6<br />\n9:00pm - <a href="https://sites.google.com/saukprairieschools.org/january-29th-2022/performing-groups/executive-session?authuser=0">Sauk Prairie Executive Session </a><br />\n9:25pm - AWARDS</p>\n</div>\n</div>\n</div>\n</div>\n</div>\n</div>\n</div>\n</div>\n</section>\n
LOCATION:Sauk Prairie High School Gym
UID:e.1184.29906
SEQUENCE:3
DTSTAMP:20260420T232649Z
URL:http://members.saukprairie.com/events/details/sauk-prairie-show-choir-invitational-29906
END:VEVENT

END:VCALENDAR
