BEGIN:VCALENDAR
VERSION:2.0
PRODID:-//ChamberMaster//Event Calendar 2.0//EN
METHOD:PUBLISH
X-PUBLISHED-TTL:P3D
REFRESH-INTERVAL:P3D
CALSCALE:GREGORIAN
BEGIN:VEVENT
DTSTART;VALUE=DATE:20240127
DTEND;VALUE=DATE:20240128
TRANSP:TRANSPARENT
X-MICROSOFT-CDO-ALLDAYEVENT:TRUE
SUMMARY:Sauk Prairie Show Choir Invitational
DESCRIPTION:Saturday\, January 27th\, 2022\n\nSauk Prairie High School Gym\n\n\n\n\n\n\n\n\n\n\nDetails coming.
X-ALT-DESC;FMTTYPE=text/html:Saturday\, January 27th\, 2022<br />\nSauk Prairie High School Gym\n<section id="h.944f60bbfcd5d2d_64">\n<div>\n<div tabindex="-1">\n<div>\n<div>\n<div jsaction="zXBUYb:zTPCnb\;zQF9Uc:Qxe3nd\;" jscontroller="sGwD4d" jsname="F57UId">\n<div>\n<div id="h.944f60bbfcd5d2d_61">\n<div>\n<div>\n<p dir="ltr" line-height:="" open="" padding-top:="" text-align:="">Details coming.</p>\n</div>\n</div>\n</div>\n</div>\n</div>\n</div>\n</div>\n</div>\n</div>\n</section>\n
LOCATION:Sauk Prairie High School Gym
UID:e.1184.29907
SEQUENCE:3
DTSTAMP:20260420T032522Z
URL:http://members.saukprairie.com/events/details/sauk-prairie-show-choir-invitational-29907
END:VEVENT

END:VCALENDAR
