BEGIN:VCALENDAR
VERSION:2.0
PRODID:-//ChamberMaster//Event Calendar 2.0//EN
METHOD:PUBLISH
X-PUBLISHED-TTL:P3D
REFRESH-INTERVAL:P3D
CALSCALE:GREGORIAN
BEGIN:VEVENT
DTSTART:20220716T140000Z
DTEND:20220716T170000Z
X-MICROSOFT-CDO-ALLDAYEVENT:FALSE
SUMMARY:Sauk Prairie Sidewalk Chalk Festival
DESCRIPTION:We're back! Join River Arts Inc. & TDS for the second annual Sauk Prairie Sidewalk Chalk Festival!\n\nSaturday\, July 16\, 2022 | 9am-12pm | Rain date: July 23\n\nMeyer Oak Grove Park\, Sauk City\n\nCelebrate summer with the second annual TDS Sidewalk Chalk Festival! Join us on Saturday\, July 16 from 9am-12pm in Meyer Oak Grove Park for a morning of art\, fun\, and music.\n\nFree to participate! Sign your 8-13 year old up for the free competition to create the best chalk art Sauk Prairie's ever seen!! Open chalk coloring area available for kids under age 8 or anyone who doesn't want to enter the competition. \n\n\nFeaturing the return of professional chalk artist Peter Davidson\, creating another masterpiece live during the event.
X-ALT-DESC;FMTTYPE=text/html:<p><strong>We&rsquo\;re back! Join River Arts Inc. &amp\; TDS for the second annual Sauk Prairie Sidewalk Chalk Festival!</strong></p>\n\n<p><strong>Saturday\, July 16\, 2022 | 9am-12pm | Rain date: July&nbsp\;</strong>23</p>\n\n<p><strong>Meyer Oak Grove Park\, Sauk City</strong></p>\n\n<p>Celebrate summer with the second annual TDS Sidewalk Chalk Festival! Join us on Saturday\, July 16 from 9am-12pm in Meyer Oak Grove Park for a morning of art\, fun\, and music.</p>\n\n<p><strong>Free to participate!</strong>&nbsp\;Sign your 8-13 year old up for the free competition to create the best chalk art Sauk Prairie&rsquo\;s ever seen!! Open chalk coloring area available for kids under age 8 or anyone who doesn&rsquo\;t want to enter the competition.&nbsp\;</p>\n\n<hr />\n<p>Featuring the return of professional chalk artist Peter Davidson\, creating another masterpiece live during the event.</p>\n
LOCATION:Meyer Oak Grove Park\, Sauk City
UID:e.1184.27409
SEQUENCE:3
DTSTAMP:20260421T104123Z
URL:http://members.saukprairie.com/events/details/sauk-prairie-sidewalk-chalk-festival-07-16-2022-27409
END:VEVENT

END:VCALENDAR
