BEGIN:VCALENDAR
VERSION:2.0
PRODID:-//ChamberMaster//Event Calendar 2.0//EN
METHOD:PUBLISH
X-PUBLISHED-TTL:P3D
REFRESH-INTERVAL:P3D
CALSCALE:GREGORIAN
BEGIN:VEVENT
DTSTART:20240129T233000Z
DTEND:20240130T023000Z
X-MICROSOFT-CDO-ALLDAYEVENT:FALSE
SUMMARY:Sauk Prairie Spectacular Chamber Awards Show
DESCRIPTION:Join us for our Sauk Prairie Spectacular Chamber Awards Show!\n\n\n\nPurchase Your Tickets here
X-ALT-DESC;FMTTYPE=text/html:Join us for our Sauk Prairie Spectacular Chamber Awards Show!<br />\n<br />\n<a href="https://www.riverartsinc.org/chamber/">Purchase Your Tickets here</a><br />\n&nbsp\;
LOCATION:Leola Hall & River Arts Center
UID:e.1184.31366
SEQUENCE:3
DTSTAMP:20260420T020446Z
URL:http://members.saukprairie.com/events/details/sauk-prairie-spectacular-chamber-awards-show-31366
END:VEVENT

END:VCALENDAR
