BEGIN:VCALENDAR
VERSION:2.0
PRODID:-//ChamberMaster//Event Calendar 2.0//EN
METHOD:PUBLISH
X-PUBLISHED-TTL:P3D
REFRESH-INTERVAL:P3D
CALSCALE:GREGORIAN
BEGIN:VEVENT
DTSTART;VALUE=DATE:20221024
DTEND;VALUE=DATE:20221101
TRANSP:TRANSPARENT
X-MICROSOFT-CDO-ALLDAYEVENT:TRUE
SUMMARY:Sauk Prairie Spooktacular Home Decorating Contest
DESCRIPTION:The first annual Spooktacular Home Decorating Contest! If you have fantastic Halloween decorations you want to share with the community\, please register your house! Winners will receive Chamber gift certificates! Voting will be open from October 24 through Halloween\, so be sure to get your house registered before that and go out and see the houses to vote between the 17th and Halloween!
X-ALT-DESC;FMTTYPE=text/html:The first annual Spooktacular Home Decorating Contest! If you have fantastic Halloween decorations you want to share with the community\, please register your house! Winners will receive Chamber gift certificates! Voting will be open from October 24 through Halloween\, so be sure to get your house registered before that and go out and see the houses to vote between the 17th and Halloween!
LOCATION:Sauk Prairie
UID:e.1184.28678
SEQUENCE:3
DTSTAMP:20260421T050810Z
URL:http://members.saukprairie.com/events/details/sauk-prairie-spooktacular-home-decorating-contest-28678
END:VEVENT

END:VCALENDAR
