BEGIN:VCALENDAR
VERSION:2.0
PRODID:-//ChamberMaster//Event Calendar 2.0//EN
METHOD:PUBLISH
X-PUBLISHED-TTL:P3D
REFRESH-INTERVAL:P3D
CALSCALE:GREGORIAN
BEGIN:VEVENT
DTSTART:20230923T220000Z
DTEND:20230924T020000Z
X-MICROSOFT-CDO-ALLDAYEVENT:FALSE
SUMMARY:Sauk Prairie Sports Booster Beer Crawl
DESCRIPTION:Hot off the Press! Sauk Prairie's First Beer Crawl!!! Join us on September 23rd in Downtown Sauk City! Limited tickets so don't delay!!\n\n\n\nClick here to purchase your tickets.
X-ALT-DESC;FMTTYPE=text/html:<span style="color: rgb(5\, 5\, 5)\; font-family: &quot\;Segoe UI Historic&quot\;\, &quot\;Segoe UI&quot\;\, Helvetica\, Arial\, sans-serif\; font-size: 15px\;">Hot off the Press! Sauk Prairie&#39\;s First Beer Crawl!!! Join us on September 23rd in Downtown Sauk City! Limited tickets so don&#39\;t delay!!<br />\n<br />\n<a href="https://www.saukprairiesportsboosters.org/product/sports-boosters-beer-crawl/24?cs=true&amp\;cst=custom&amp\;fbclid=IwAR3Xp0NhIgKw-ojH1TkENdpgpO-wfVdH9ZKM0LHdD476Jfs0CdzkJTzsSWk">Click here to purchase your tickets.</a></span>
LOCATION:
UID:e.1184.30928
SEQUENCE:3
DTSTAMP:20260420T075440Z
URL:http://members.saukprairie.com/events/details/sauk-prairie-sports-booster-beer-crawl-30928
END:VEVENT

END:VCALENDAR
