BEGIN:VCALENDAR
VERSION:2.0
PRODID:-//ChamberMaster//Event Calendar 2.0//EN
METHOD:PUBLISH
X-PUBLISHED-TTL:P3D
REFRESH-INTERVAL:P3D
CALSCALE:GREGORIAN
BEGIN:VEVENT
DTSTART:20180609T150000Z
DTEND:20180610T210000Z
X-MICROSOFT-CDO-ALLDAYEVENT:FALSE
SUMMARY:Sauk Prairie Summer Shop
DESCRIPTION:Sauk Prairie Summer Shop is a Multi Vendor Event to benefit the MDA!\n\n\n\n\n\nCrafters\, Re-Purposers\, Vendors showcasing Gifts! Treats! Vintage and other Home Decor! Shop with us to benefit the Muscular Dystrophy Association (MDA)! \n\n\n\nSame location as our Holiday Shop in December\, with even more vendors\, bigger selection and certainly better weather!
X-ALT-DESC;FMTTYPE=text/html:<p><strong><u>Sauk Prairie Summer Shop is a Multi Vendor Event to benefit the MDA!</u></strong></p>\n\n<p><br />\n<br />\n<span style="color: rgb(75\, 79\, 86)\; font-family: Helvetica\, Arial\, sans-serif\; font-size: 14px\;">Crafters\, Re-Purposers\, Vendors showcasing Gifts! Treats! Vintage and other Home Decor! Shop with us to benefit the Muscular Dystrophy Association (MDA)!&nbsp\;</span><br style="color: rgb(75\, 79\, 86)\; font-family: Helvetica\, Arial\, sans-serif\; font-size: 14px\;" />\n<br style="color: rgb(75\, 79\, 86)\; font-family: Helvetica\, Arial\, sans-serif\; font-size: 14px\;" />\n<span style="color: rgb(75\, 79\, 86)\; font-family: Helvetica\, Arial\, sans-serif\; font-size: 14px\;">Same location as our Holiday Shop in December\, with even more vendors\, bigger selection and certainly better weather!</span></p>\n
LOCATION:836 Phillips Blvd.\, Sauk City\, WI 53583 (formerly Sauk Prairie Harley Davidson)
UID:e.1184.14739
SEQUENCE:3
DTSTAMP:20260424T114200Z
URL:http://members.saukprairie.com/events/details/sauk-prairie-summer-shop-14739
END:VEVENT

END:VCALENDAR
