BEGIN:VCALENDAR
VERSION:2.0
PRODID:-//ChamberMaster//Event Calendar 2.0//EN
METHOD:PUBLISH
X-PUBLISHED-TTL:P3D
REFRESH-INTERVAL:P3D
CALSCALE:GREGORIAN
BEGIN:VEVENT
DTSTART:20190622T140000Z
DTEND:20190622T210000Z
X-MICROSOFT-CDO-ALLDAYEVENT:FALSE
SUMMARY:Sauk Prairie Summer Shop
DESCRIPTION:Sauk Prairie Summer Shop is a Multi Vendor Event to benefit the Sauk Prairie Parks & Recreation!\n\nDownload the form here\n\n\n\nWe invite you to participate in a benefit for The Friends of Sauk Prairie Parks and Recreation by showcasing your crafts\, specialty foods\, gifts and home d cor. This event will be locally advertised and is being held in conjunction with a community-wide Summer Solstice Festival. We ask all participants to help promote the event through your contacts\, including email\, mailers\, social media\, etc.\n\n\n\nParticipation Fee: $45.00-10'x10' or $35.00-8'x4'\, plus Table Rental-$7.00 ea.\n\nTo guarantee your space\, send completed form with full payment. Spaces will be granted on a first come-first served basis and cannot be held without payment.\n\n\n\nMail to: Kim Steuber\n\nE10348 Prairie Road\n\nPrairie du Sac\, WI 53578\n\n\n\nSet up: One vendor/crafter/business represented per space. Tables and chairs available for additional fee.\n\n\n\nSet-up Time: Saturday\, June 22\, 6:30 a.m.   please be ready for doors to open promptly at 9 a.m.!\n\n\n\nClosing Time: 4:00 p.m. Please do not remove/pack up items prior to 4:00 p.m.\n\n\n\nAnyone tearing down early will jeopardize participation in future events.\n\n\n\nPlease leave your space as you found it   clean and trash removed.\n\n\n\nRaffle: Each participant is asked to donate one raffle item or gift certificate for a future purchase.\n\n\n\nRaffle takes place at 3:00 p.m.\n\n\n\nPlease return the attached completed form with payment to Kim Steuber to reserve your space.\n\nDownload the form here
X-ALT-DESC;FMTTYPE=text/html:<p><strong><u>Sauk Prairie Summer Shop is a Multi Vendor Event to benefit the Sauk Prairie Parks &amp\; Recreation!</u></strong></p>\n\n<p><a href="https://chambermaster.blob.core.windows.net/userfiles/UserFiles/chambers/1184/File/2016/SPSummerShop2019.pdf" style="font-size: 14px\;"><strong>Download the form here</strong></a></p>\n\n<p><br />\nWe invite you to participate in a benefit for The Friends of Sauk Prairie Parks and Recreation by showcasing your crafts\, specialty foods\, gifts and home d&eacute\;cor. This event will be locally advertised and is being held in conjunction with a community-wide Summer Solstice Festival. We ask all participants to help promote the event through your contacts\, including email\, mailers\, social media\, etc.<br />\n<br />\nParticipation Fee: $45.00-10&rsquo\;x10&rsquo\; or $35.00-8&rsquo\;x4&rsquo\;\, plus Table Rental-$7.00 ea.<br />\nTo guarantee your space\, send completed form with full payment. Spaces will be granted on a first come-first served basis and cannot be held without payment.<br />\n<br />\nMail to: Kim Steuber<br />\nE10348 Prairie Road<br />\nPrairie du Sac\, WI 53578<br />\n<br />\nSet&#8208\;up: One vendor/crafter/business represented per space. Tables and chairs available for additional fee.<br />\n<br />\nSet-up Time: Saturday\, June 22\, 6:30 a.m. &ndash\; please be ready for doors to open promptly at 9 a.m.!<br />\n<br />\nClosing Time: 4:00 p.m. Please do not remove/pack up items prior to 4:00 p.m.<br />\n<br />\nAnyone tearing down early will jeopardize participation in future events.<br />\n<br />\nPlease leave your space as you found it &ndash\; clean and trash removed.<br />\n<br />\nRaffle: Each participant is asked to donate one raffle item or gift certificate for a future purchase.<br />\n<br />\nRaffle takes place at 3:00 p.m.<br />\n<br />\nPlease return the attached completed form with payment to Kim Steuber to reserve your space.<br />\n<span style="font-size:14px\;"><a href="https://chambermaster.blob.core.windows.net/userfiles/UserFiles/chambers/1184/File/2016/SPSummerShop2019.pdf"><strong>Download the form here</strong></a></span></p>\n
LOCATION:Sauk Prairie Community Center 730 Monroe St.\, Sauk City
UID:e.1184.22255
SEQUENCE:3
DTSTAMP:20260423T153719Z
URL:http://members.saukprairie.com/events/details/sauk-prairie-summer-shop-22255
END:VEVENT

END:VCALENDAR
