BEGIN:VCALENDAR
VERSION:2.0
PRODID:-//ChamberMaster//Event Calendar 2.0//EN
METHOD:PUBLISH
X-PUBLISHED-TTL:P3D
REFRESH-INTERVAL:P3D
CALSCALE:GREGORIAN
BEGIN:VEVENT
DTSTART:20220709T150000Z
DTEND:20220709T190000Z
X-MICROSOFT-CDO-ALLDAYEVENT:FALSE
SUMMARY:Sauk-Prairie Summer Shopping Crawl 2022
DESCRIPTION:Join us again for another fun filled day of exploring Sauk-Prairie. Visit participating businesses while enjoying fresh lemonade treats. During your visit to each business\, get your card punched for an opportunity to win one of the wonderful baskets with donations from our generous local businesses.\n\nTickets can be purchased in person at Country Sass Gifts for $5.00 each\, starting June 1st- June 30th. There will be a limited amount of tickets so hurry while they last.\n\nFunds raised will be donated to Sauk-Prairie Chamber to use to beautify Water Street.\n\nCheck back to see updates as we get closer!\n\nAny business that wishes to participate as a crawl stop\, please click on the link below for additional info. Business signups ends May 20th\n\nhttps://www.signupgenius.com/.../10C0F44A5A72AA7F9CE9... \n\nSee less
X-ALT-DESC;FMTTYPE=text/html:<div>Join us again for another fun filled day of exploring Sauk-Prairie. Visit participating businesses while enjoying fresh lemonade treats. During your visit to each business\, get your card punched for an opportunity to win one of the wonderful baskets with donations from our generous local businesses.</div>\n\n<div>Tickets can be purchased in person at Country Sass Gifts for $5.00 each\, starting June 1st- June 30th. There will be a limited amount of tickets so hurry while they last.</div>\n\n<div>Funds raised will be donated to Sauk-Prairie Chamber to use to beautify Water Street.</div>\n\n<div>Check back to see updates as we get closer!</div>\n\n<div>Any business that wishes to participate as a crawl stop\, please click on the link below for additional info. Business signups ends May 20th<br />\n<a class="oajrlxb2 g5ia77u1 qu0x051f esr5mh6w e9989ue4 r7d6kgcz rq0escxv nhd2j8a9 nc684nl6 p7hjln8o kvgmc6g5 cxmmr5t8 oygrvhab hcukyx3x jb3vyjys rz4wbd8a qt6c0cv9 a8nywdso i1ao9s8h esuyzwwr f1sip0of lzcic4wl gpro0wi8 py34i1dx" href="https://l.facebook.com/l.php?u=https%3A%2F%2Fwww.signupgenius.com%2Fgo%2F10C0F44A5A72AA7F9CE9-business%3Ffbclid%3DIwAR36nzI_FL3rXoiZL1HYXKRwIoEYY73jPohqIkJuVEIujugMAyda3WZWrWo&amp\;h=AT2S-d8J4RrcmN8CIMpRR0b41diZEuOImzy5tEPVq5DYdvVsbdA5lrDIyCvlRzu9R5gk737w3LAlLZbK6jy970mQ-FY_x04BcXD2qW4AM5SJpa21CFZTdDpOHMaKJC54fe81&amp\;__tn__=q&amp\;c[0]=AT0cNZOuSgqZEwPlLiNbjATFYVDX3jQsZF7Z-ZJc3canHLAoQFJDgc7gc1JmMx5GqisQ7_WI-iSfl8rRloH5m0dnkoBGfZVCpDIb7zBMxDZ6b8romJqn_6j4oRMYnUl0EAk" rel="nofollow noopener" style="cursor: pointer\; text-decoration-line: none\; outline: none\; list-style: none\; border-width: 0px\; border-style: initial\; border-color: initial\; padding: 0px\; margin: 0px\; touch-action: manipulation\; background-color: transparent\; text-align: inherit\; display: inline\; -webkit-tap-highlight-color: transparent\; box-sizing: border-box\; font-family: inherit\;" tabindex="0" target="_blank">https://www.signupgenius.com/.../10C0F44A5A72AA7F9CE9...</a>&nbsp\;\n\n<div style="text-align:inherit">See less</div>\n</div>\n
LOCATION:Shopping area down Water street area in Sauk-Prairie
UID:e.1184.27616
SEQUENCE:3
DTSTAMP:20260421T104004Z
URL:http://members.saukprairie.com/events/details/sauk-prairie-summer-shopping-crawl-2022-27616
END:VEVENT

END:VCALENDAR
