BEGIN:VCALENDAR
VERSION:2.0
PRODID:-//ChamberMaster//Event Calendar 2.0//EN
METHOD:PUBLISH
X-PUBLISHED-TTL:P3D
REFRESH-INTERVAL:P3D
CALSCALE:GREGORIAN
BEGIN:VEVENT
DTSTART;VALUE=DATE:20180316
DTEND;VALUE=DATE:20180319
TRANSP:TRANSPARENT
X-MICROSOFT-CDO-ALLDAYEVENT:TRUE
SUMMARY:Sauk Prairie Theare Guild Presents in the way of love
DESCRIPTION:O L D L A D I E S ? L I G H T N I N G ? A R O O M M A T E ? E M O T I O N S P E R S O N I F I E D ? W H A T S T A N D S I N Y O U R W A Y ?\n\n\n\nFour Short Comedies About the Obstacles to Love\n\n\n\nSauk Prairie Theatre Guild Presents\n\nA Buffalo in Sheeps Clothing* - By Ray Sheers\n\nLove & Lightning** - By Patrick Gabridge\n\nLitmus Test** - By Craig J. Clark\n\nBob's Date* - By John Shanahan - Parental Guidance Advised\n\n\n\nFriday March 16th 7pm\n\nSaturday March 17th 7pm\n\nSunday March 18th 2pm\n\nPark Hall\, 307 Polk\, Sauk City\n\nPark Hall is Handicap Accessible\n\n\n\nAdvanced Tickets:\n\n$6 Seniors/Students - $8 Adults\n\nAt the Door:\n\n$8 Seniors/Students - $10 Adults\n\n\n\nAvailable at River Arts on Water Gallery\, 590 Water St\, Prairie du Sac - 608-643-5215\n\n\n\nSample and purchase Paul's Chocolates before and after the performance and at intermission\n\n\n\n*Produced by special arrangement with Heuer Publishing LLC of Cedar Rapids \, Iowa.\n\n**Produced by special arrangement with Brooklyn Publishers\, LLC
X-ALT-DESC;FMTTYPE=text/html:O L D L A D I E S ? L I G H T N I N G ? A R O O M M A T E ? E M O T I O N S P E R S O N I F I E D ? W H A T S T A N D S I N Y O U R W A Y ?<br />\n<br />\nFour Short Comedies About the Obstacles to Love<br />\n<br />\nSauk Prairie Theatre Guild Presents<br />\nA Buffalo in Sheeps Clothing* -&nbsp\;By Ray Sheers<br />\nLove &amp\; Lightning** -&nbsp\;By Patrick&nbsp\;Gabridge<br />\nLitmus Test** -&nbsp\;By Craig J. Clark<br />\nBob&#39\;s Date* -&nbsp\;By John&nbsp\;Shanahan&nbsp\;- Parental Guidance Advised<br />\n<br />\nFriday March 16th 7pm<br />\nSaturday March 17th 7pm<br />\nSunday March 18th 2pm<br />\nPark Hall\, 307 Polk\, Sauk City<br />\nPark Hall is Handicap Accessible<br />\n<br />\nAdvanced Tickets:<br />\n$6 Seniors/Students - $8 Adults<br />\nAt the Door:<br />\n$8 Seniors/Students - $10 Adults<br />\n<br />\nAvailable at River Arts on Water Gallery\, 590 Water St\, Prairie du Sac - 608-643-5215<br />\n<br />\nSample and purchase Paul&#39\;s Chocolates before and after the performance and at intermission<br />\n<br />\n*Produced by special arrangement with&nbsp\;Heuer&nbsp\;Publishing LLC of Cedar Rapids \, Iowa.<br />\n**Produced by special arrangement with Brooklyn Publishers\, LLC<br />\n&nbsp\;
LOCATION:Park Hall\, 307 Polk\, Sauk City
UID:e.1184.14683
SEQUENCE:3
DTSTAMP:20260424T162217Z
URL:http://members.saukprairie.com/events/details/sauk-prairie-theare-guild-presents-in-the-way-of-love-14683
END:VEVENT

END:VCALENDAR
