BEGIN:VCALENDAR
VERSION:2.0
PRODID:-//ChamberMaster//Event Calendar 2.0//EN
METHOD:PUBLISH
X-PUBLISHED-TTL:P3D
REFRESH-INTERVAL:P3D
CALSCALE:GREGORIAN
BEGIN:VEVENT
DTSTART:20171109T003000Z
DTEND:20171109T020000Z
X-MICROSOFT-CDO-ALLDAYEVENT:FALSE
SUMMARY:Sauk Prairie Theater Guild's A Christmas Carol Preview
DESCRIPTION:We welcome Sauk Prairie Theater Guild to our stage in their production of A Christmas Carol. They will be showcasing a preview night of their show for free to the public.\n\n\n\nThis production is supported in part by a grant from the Sauk County UW-Extension\, Arts and Culture Committee and the Wisconsin Arts Board with funds from the State of Wisconsin.\n\n \n\n\nIf you are in need of accommodations\, the library would like to help! Please contact us at 608-643-8346 as soon as possible with the assistance you will need. The basement is accessible via a ramp by our rear parking lot. This door will be unlocked at least 10 minutes before the program begins.
X-ALT-DESC;FMTTYPE=text/html:<p>We welcome Sauk Prairie Theater Guild to our stage in their production of A Christmas Carol. They will be showcasing a preview night of their show for free to the public.<br />\n<br />\nThis production is supported in part by a grant from the Sauk County UW-Extension\, Arts and Culture Committee and the Wisconsin Arts Board with funds from the State of Wisconsin.</p>\n\n<p>&nbsp\;</p>\n\n<hr />\n<p>If you are in need of accommodations\, the library would like to help! Please contact us at 608-643-8346 as soon as possible with the assistance you will need. The basement is accessible via a ramp by our rear parking lot. This door will be unlocked at least 10 minutes before the program begins.</p>\n
LOCATION:
UID:e.1184.13976
SEQUENCE:3
DTSTAMP:20260424T205710Z
URL:http://members.saukprairie.com/events/details/sauk-prairie-theater-guild-s-a-christmas-carol-13976
END:VEVENT

END:VCALENDAR
