BEGIN:VCALENDAR
VERSION:2.0
PRODID:-//ChamberMaster//Event Calendar 2.0//EN
METHOD:PUBLISH
X-PUBLISHED-TTL:P3D
REFRESH-INTERVAL:P3D
CALSCALE:GREGORIAN
BEGIN:VEVENT
DTSTART;VALUE=DATE:20171201
DTEND;VALUE=DATE:20171204
TRANSP:TRANSPARENT
X-MICROSOFT-CDO-ALLDAYEVENT:TRUE
SUMMARY:Sauk Prairie Theatre Guild Presents A Christmas Carol
DESCRIPTION:Sauk Prairie Theatre Guild Presents:\n\nA Christmas Carol by Charles Dickens\n\n\n\nA New Multi-media Stage Adaption with Period Music By Rauel LaBreche\n\nDec 1st 7pm\; Dec 2nd 2 & 7pm\; Dec 3rd 2pm\n\nRiver Arts Center  105 9th St. Prairie du Sac\n\n\n\nTICKETS ON SALE NOW at River Arts on Water\n\nAdvance Tickets $12 Adults / $10 Students & Seniors\n\nAt the Door $14 Adults / $12 Students & Seniors\n\n\n\nBuy tickets online at: www.sptheatreguild.org\n\nFor more information call: 608.643.5215
X-ALT-DESC;FMTTYPE=text/html:<p>Sauk Prairie Theatre Guild Presents:<br />\nA Christmas Carol by Charles Dickens<br />\n<br />\nA New Multi-media Stage Adaption with Period Music By Rauel LaBreche<br />\nDec 1st 7pm\; Dec 2nd 2 &amp\; 7pm\; Dec 3rd 2pm<br />\nRiver Arts Center&mdash\; 105 9th St. Prairie du Sac<br />\n<br />\nTICKETS ON SALE NOW at River Arts on Water<br />\nAdvance Tickets $12&mdash\;Adults / $10&mdash\;Students &amp\; Seniors<br />\nAt the Door $14&mdash\;Adults / $12&mdash\;Students &amp\; Seniors<br />\n<br />\nBuy tickets online at: www.sptheatreguild.org<br />\nFor more information call: 608.643.5215</p>\n
LOCATION:River Arts Center 105 9th St. Prairie du Sac
UID:e.1184.14034
SEQUENCE:3
DTSTAMP:20260424T193247Z
URL:http://members.saukprairie.com/events/details/sauk-prairie-theatre-guild-presents-a-christmas-carol-14034
END:VEVENT

END:VCALENDAR
