BEGIN:VCALENDAR
VERSION:2.0
PRODID:-//ChamberMaster//Event Calendar 2.0//EN
METHOD:PUBLISH
X-PUBLISHED-TTL:P3D
REFRESH-INTERVAL:P3D
CALSCALE:GREGORIAN
BEGIN:VEVENT
DTSTART;VALUE=DATE:20170721
DTEND;VALUE=DATE:20170724
TRANSP:TRANSPARENT
X-MICROSOFT-CDO-ALLDAYEVENT:TRUE
SUMMARY:Sauk Prairie Theatre Guild Presents Twitch
DESCRIPTION:THE SAUK PRAIRIE THEATER GUILD PRESENTS...\n\nIn association with the Midstage Theater Company\n\n\n\nTWITCH - by Stephen Gregg\n\nProduced with special permission of Dramatic Publishing Co.\n\n\n\nBANK WITHDRAWAL SYMPTOMS\n\nby Jim Gustafson\n\nProduced with special permission of Heuer Publishing\n\n\n\n3AM WAKE-UP CALL (For ages 13 & up)\n\nby E.R. Schultz\n\nProduced with special permission of Heuer Publishing\n\n\n\nIN THE LEAHY THEATER AT\n\nSAUK PRAIRIE HIGH SCHOOL\n\n105 9TH STREET\, PRAIRIE DU SAC\n\nTICKETS WILL BE SOLD AT RIVER ARTS ON WATER IN ADVANCE\n\n$6 FOR STUDENTS & SENIORS\n\n$8 FOR ADULTS\n\nTICKETS WILL BE SOLD AT THE DOOR\n\n$8 FOR STUDENTS & SENIORS\n\n$10 FOR ADULTS
X-ALT-DESC;FMTTYPE=text/html:<p><strong>THE SAUK PRAIRIE THEATER GUILD PRESENTS...</strong><br />\nIn association with the Midstage Theater Company<br />\n<br />\n<span style="font-size:20px\;"><strong>TWITCH -&nbsp\;</strong></span>by Stephen Gregg<br />\nProduced with special permission of Dramatic Publishing Co.<br />\n<br />\n<strong>BANK WITHDRAWAL SYMPTOMS</strong><br />\nby Jim Gustafson<br />\nProduced with special permission of&nbsp\;Heuer&nbsp\;Publishing<br />\n<br />\n<strong>3AM WAKE-UP CALL&nbsp\;</strong>(For ages 13 &amp\; up)<br />\nby E.R. Schultz<br />\nProduced with special permission of Heuer Publishing<br />\n<br />\nIN THE LEAHY THEATER AT<br />\nSAUK PRAIRIE HIGH SCHOOL<br />\n105 9TH STREET\, PRAIRIE DU SAC<br />\nTICKETS WILL BE SOLD AT RIVER ARTS ON WATER IN ADVANCE<br />\n$6 FOR STUDENTS &amp\; SENIORS<br />\n$8 FOR ADULTS<br />\nTICKETS WILL BE SOLD AT THE DOOR<br />\n$8 FOR STUDENTS &amp\; SENIORS<br />\n$10 FOR ADULTS</p>\n
LOCATION:SAUK PRAIRIE HIGH SCHOOL 105 9TH STREET\, PRAIRIE DU SAC
UID:e.1184.11832
SEQUENCE:3
DTSTAMP:20260425T033804Z
URL:http://members.saukprairie.com/events/details/sauk-prairie-theatre-guild-presents-twitch-11832
END:VEVENT

END:VCALENDAR
