BEGIN:VCALENDAR
VERSION:2.0
PRODID:-//ChamberMaster//Event Calendar 2.0//EN
METHOD:PUBLISH
X-PUBLISHED-TTL:P3D
REFRESH-INTERVAL:P3D
CALSCALE:GREGORIAN
BEGIN:VEVENT
DTSTART;VALUE=DATE:20200201
DTEND;VALUE=DATE:20200203
TRANSP:TRANSPARENT
X-MICROSOFT-CDO-ALLDAYEVENT:TRUE
SUMMARY:Sauk Prairie Trap & Skeet Club's Gun Show
DESCRIPTION:Buy\, Sell\, Trade!\n\nShot guns\, rifles\, shooting accessories\, outdoor clothing\, hunting and fishing gear\, ammunition\, army surplus\, collectables\, and much more!\n\n\n\nFood and drink available at the Show.\n\nHelp provided by the Scholastic Clay Target Program youth shooters.\n\n\n\nAll guns must be checked and tagged at the front door.\n\n\n\nContact: Al Lathrop\, 608-220-5423\n\nFor table and reservations and information\, contact Al
X-ALT-DESC;FMTTYPE=text/html:Buy\, Sell\, Trade!<br />\nShot guns\, rifles\, shooting accessories\, outdoor clothing\, hunting and fishing gear\, ammunition\, army surplus\, collectables\, and much more!<br />\n<br />\nFood and drink available at the Show.<br />\nHelp provided by the Scholastic Clay Target Program youth shooters.<br />\n<br />\nAll guns must be checked and tagged at the front door.<br />\n<br />\nContact: Al Lathrop\, 608-220-5423<br />\nFor table and reservations and information\, contact Al
LOCATION:Sauk Prairie Community Center 730 Monroe St. Sauk City
UID:e.1184.24006
SEQUENCE:3
DTSTAMP:20260423T041525Z
URL:http://members.saukprairie.com/events/details/sauk-prairie-trap-skeet-club-s-gun-show-24006
END:VEVENT

END:VCALENDAR
