BEGIN:VCALENDAR
VERSION:2.0
PRODID:-//ChamberMaster//Event Calendar 2.0//EN
METHOD:PUBLISH
X-PUBLISHED-TTL:P3D
REFRESH-INTERVAL:P3D
CALSCALE:GREGORIAN
BEGIN:VEVENT
DTSTART;VALUE=DATE:20170204
DTEND;VALUE=DATE:20170206
TRANSP:TRANSPARENT
X-MICROSOFT-CDO-ALLDAYEVENT:TRUE
SUMMARY:Sauk Prairie Trap & Skeet Club's GUN SHOW
DESCRIPTION:Buy\, Sell\, Trade\n\nShotguns\, rifles\, shooting accessories\, outdoor clothing\, hunting and fishing gear\, ammunition\, army surplus\, collectibles and much more!\n\n\n\nFood and drink available at the Show\n\n\n\nHelp provided by the Scholastic Cly Target Program youth shooters\n\n\n\nAll guns much be checked and tagged at the front door\n\n\n\nContact: Al Lathrop 608-220-5423 for table reservations and information
X-ALT-DESC;FMTTYPE=text/html:Buy\, Sell\, Trade<br />\nShotguns\, rifles\, shooting accessories\, outdoor clothing\, hunting and fishing gear\, ammunition\, army surplus\, collectibles and much more!<br />\n<br />\nFood and drink available at the Show<br />\n<br />\nHelp provided by the Scholastic Cly Target Program youth shooters<br />\n<br />\nAll guns much be checked and tagged at the front door<br />\n<br />\nContact: Al Lathrop 608-220-5423 for table reservations and information
LOCATION:Sauk Prairie Community Center 73 Monroe Street Sauk City\, WI 53583
UID:e.1184.9852
SEQUENCE:3
DTSTAMP:20260425T110504Z
URL:http://members.saukprairie.com/events/details/sauk-prairie-trap-skeet-club-s-gun-show-9852
END:VEVENT

END:VCALENDAR
