BEGIN:VCALENDAR
VERSION:2.0
PRODID:-//ChamberMaster//Event Calendar 2.0//EN
METHOD:PUBLISH
X-PUBLISHED-TTL:P3D
REFRESH-INTERVAL:P3D
CALSCALE:GREGORIAN
BEGIN:VEVENT
DTSTART:20190529T230000Z
DTEND:20190530T010000Z
X-MICROSOFT-CDO-ALLDAYEVENT:FALSE
SUMMARY:Sauk Prairie Women's Networking Event
DESCRIPTION:Come together and support other women business owners. Meet new people and grow your business.
X-ALT-DESC;FMTTYPE=text/html:<span style="color: rgb(29\, 33\, 41)\; font-family: Helvetica\, Arial\, sans-serif\; font-size: 14px\; white-space: pre-wrap\;">Come together and support other women business owners. Meet new people and grow your business.</span>
LOCATION:Village Pub 101 Jackson St.\, Sauk City
UID:e.1184.22336
SEQUENCE:3
DTSTAMP:20260423T171712Z
URL:http://members.saukprairie.com/events/details/sauk-prairie-women-s-networking-event-22336
END:VEVENT

END:VCALENDAR
